BEGIN:VCALENDAR
VERSION:2.0
PRODID:-//New Hope Manoa - ECPv6.13.2.1//NONSGML v1.0//EN
CALSCALE:GREGORIAN
METHOD:PUBLISH
X-WR-CALNAME:New Hope Manoa
X-ORIGINAL-URL:https://newhopemanoa.tv
X-WR-CALDESC:Events for New Hope Manoa
REFRESH-INTERVAL;VALUE=DURATION:PT1H
X-Robots-Tag:noindex
X-PUBLISHED-TTL:PT1H
BEGIN:VTIMEZONE
TZID:Pacific/Honolulu
BEGIN:STANDARD
TZOFFSETFROM:-1000
TZOFFSETTO:-1000
TZNAME:HST
DTSTART:20250101T000000
END:STANDARD
END:VTIMEZONE
BEGIN:VEVENT
DTSTART;TZID=Pacific/Honolulu:20250525T093000
DTEND;TZID=Pacific/Honolulu:20250525T103000
DTSTAMP:20260423T230630
CREATED:20250421T004440Z
LAST-MODIFIED:20250502T211233Z
UID:22613-1748165400-1748169000@newhopemanoa.tv
SUMMARY:Service Location Change
DESCRIPTION:Bakken Auditorium will be used by Mid-Pacific Institute on May 11 and 25\, but we can still come together! Church is not a building; it’s the assembly of the body of believers. Service will be held at Waioli Kitchen and Bakeshop. Several volunteers will also open their homes for people to gather and watch the livestream service together. \nMay 11th Locations:\nService: Waioli Kitchen and Bakeshop (Mānoa)\nLivestream Gathering: Al & Raquel’s home (Makiki) \nMay 25th Location:\nService: Waioli Kitchen and Bakeshop (Mānoa) \nWe are still looking for other HOST HOMES to gather a small group of people to watch the livestream together. Please contact Pastor Rod at rod@enewhope.org if you would like to be a host.
URL:https://newhopemanoa.tv/event/service-at-host-homes-2/
LOCATION:Waioli Kitchen and Bakeshop
ATTACH;FMTTYPE=image/png:https://newhopemanoa.tv/wp-content/uploads/2025/04/Screen-Shot-2025-04-25-at-12.46.07-PM.png
END:VEVENT
END:VCALENDAR