BEGIN:VCALENDAR
VERSION:2.0
PRODID:-//New Hope Manoa - ECPv6.13.2.1//NONSGML v1.0//EN
CALSCALE:GREGORIAN
METHOD:PUBLISH
X-ORIGINAL-URL:https://newhopemanoa.tv
X-WR-CALDESC:Events for New Hope Manoa
REFRESH-INTERVAL;VALUE=DURATION:PT1H
X-Robots-Tag:noindex
X-PUBLISHED-TTL:PT1H
BEGIN:VTIMEZONE
TZID:Pacific/Honolulu
BEGIN:STANDARD
TZOFFSETFROM:-1000
TZOFFSETTO:-1000
TZNAME:HST
DTSTART:20250101T000000
END:STANDARD
END:VTIMEZONE
BEGIN:VEVENT
DTSTART;TZID=Pacific/Honolulu:20250628T083000
DTEND;TZID=Pacific/Honolulu:20250628T100000
DTSTAMP:20260423T213321
CREATED:20250616T184732Z
LAST-MODIFIED:20250616T184732Z
UID:23652-1751099400-1751104800@newhopemanoa.tv
SUMMARY:Men’s Discipleship Small Group
DESCRIPTION:Men\, we all need a community to grow closer to God! Join the next men’s small group on Zoom on Saturday\, June 28.  Please contact Pastor Mike (email: ononelson@aol.com) for the meeting link.
URL:https://newhopemanoa.tv/event/mens-discipleship-small-group-4/
LOCATION:Zoom
ATTACH;FMTTYPE=image/png:https://newhopemanoa.tv/wp-content/uploads/2025/02/NHM-Events-6-1.png
END:VEVENT
END:VCALENDAR