BEGIN:VCALENDAR
VERSION:2.0
PRODID:-//New Hope Manoa - ECPv6.13.2.1//NONSGML v1.0//EN
CALSCALE:GREGORIAN
METHOD:PUBLISH
X-WR-CALNAME:New Hope Manoa
X-ORIGINAL-URL:https://newhopemanoa.tv
X-WR-CALDESC:Events for New Hope Manoa
REFRESH-INTERVAL;VALUE=DURATION:PT1H
X-Robots-Tag:noindex
X-PUBLISHED-TTL:PT1H
BEGIN:VTIMEZONE
TZID:Pacific/Honolulu
BEGIN:STANDARD
TZOFFSETFROM:-1000
TZOFFSETTO:-1000
TZNAME:HST
DTSTART:20250101T000000
END:STANDARD
END:VTIMEZONE
BEGIN:VEVENT
DTSTART;TZID=Pacific/Honolulu:20250828T180000
DTEND;TZID=Pacific/Honolulu:20250828T200000
DTSTAMP:20260423T185339
CREATED:20250824T180458Z
LAST-MODIFIED:20250824T181041Z
UID:24791-1756404000-1756411200@newhopemanoa.tv
SUMMARY:Young Adults Dinner & Discussion
DESCRIPTION:Calling all young adults!  Join Malia for Dinner & Discussion! Meetings are 6:00-8:00 PM at the Shimabukuro hale on Thursdays\, August 28\, September 4 and 18. Contact Malia at (808) 375-2064.
URL:https://newhopemanoa.tv/event/young-adults-dinner-discussion/
LOCATION:Shimabukuro’s House
ATTACH;FMTTYPE=image/png:https://newhopemanoa.tv/wp-content/uploads/2025/08/Screenshot-2025-08-23-at-8.44.24-PM-1.png
END:VEVENT
END:VCALENDAR