BEGIN:VCALENDAR
VERSION:2.0
PRODID:-//New Hope Manoa - ECPv6.13.2.1//NONSGML v1.0//EN
CALSCALE:GREGORIAN
METHOD:PUBLISH
X-WR-CALNAME:New Hope Manoa
X-ORIGINAL-URL:https://newhopemanoa.tv
X-WR-CALDESC:Events for New Hope Manoa
REFRESH-INTERVAL;VALUE=DURATION:PT1H
X-Robots-Tag:noindex
X-PUBLISHED-TTL:PT1H
BEGIN:VTIMEZONE
TZID:Pacific/Honolulu
BEGIN:STANDARD
TZOFFSETFROM:-1000
TZOFFSETTO:-1000
TZNAME:HST
DTSTART:20250101T000000
END:STANDARD
END:VTIMEZONE
BEGIN:VEVENT
DTSTART;TZID=Pacific/Honolulu:20250911T190000
DTEND;TZID=Pacific/Honolulu:20250913T120000
DTSTAMP:20260423T173113
CREATED:20250810T190621Z
LAST-MODIFIED:20250823T200926Z
UID:24531-1757617200-1757764800@newhopemanoa.tv
SUMMARY:Hawai'i Leadership Conference
DESCRIPTION:“The Hawaii Leadership Conference is a Kingdom gathering bringing pastors\, leaders\, and Christ-followers across Hawaii to pursue a fresh move of God together and learn from the forerunners of the faith in Hawaii to raise the tide for all churches. Rooted in Jesus’ prayer for unity in John 17:20–23\, this conference seeks to bring the Church of Hawaii together to worship\, build relationships\, and be discipled to see His Kingdom come in Hawaii\, as it is in heaven. In this pivotal moment\, we honor the past\, celebrate what God is doing now\, and boldly seek His future—together.” View more info \nREGISTER NOW\nContact Pastor Rod for a special discount code.
URL:https://newhopemanoa.tv/event/hawaii-leadership-conference/
LOCATION:New Hope O’ahu\, 290 Sand Island Access Road\, Honolulu\, HI
ATTACH;FMTTYPE=image/png:https://newhopemanoa.tv/wp-content/uploads/2025/08/Screenshot-2025-08-10-at-9.03.52-AM.png
END:VEVENT
END:VCALENDAR