BEGIN:VCALENDAR
VERSION:2.0
PRODID:-//New Hope Manoa - ECPv6.13.2.1//NONSGML v1.0//EN
CALSCALE:GREGORIAN
METHOD:PUBLISH
X-ORIGINAL-URL:https://newhopemanoa.tv
X-WR-CALDESC:Events for New Hope Manoa
REFRESH-INTERVAL;VALUE=DURATION:PT1H
X-Robots-Tag:noindex
X-PUBLISHED-TTL:PT1H
BEGIN:VTIMEZONE
TZID:Pacific/Honolulu
BEGIN:STANDARD
TZOFFSETFROM:-1000
TZOFFSETTO:-1000
TZNAME:HST
DTSTART:20250101T000000
END:STANDARD
END:VTIMEZONE
BEGIN:VEVENT
DTSTART;TZID=Pacific/Honolulu:20250915T173000
DTEND;TZID=Pacific/Honolulu:20250915T193000
DTSTAMP:20260423T173156
CREATED:20250912T214047Z
LAST-MODIFIED:20250912T214047Z
UID:25071-1757957400-1757964600@newhopemanoa.tv
SUMMARY:New Hope Boxing Clinic
DESCRIPTION:Get ready for the New Hope Boxing Clinic Fall Clinic starting Monday\, September 15.  Meet Coach Claudia at 5:30 PM at the end of Magic Island parking lot and bring water\, a towel\, and jump rope.  After registration\, fellowship\, and prayer\, they’ll will dive into boxing fundamentals.  Hope to see you there!
URL:https://newhopemanoa.tv/event/new-hope-boxing-clinic-26/
LOCATION:Magic Island Ala Moana
ATTACH;FMTTYPE=image/jpeg:https://newhopemanoa.tv/wp-content/uploads/2025/01/NHM-Events.jpg
END:VEVENT
END:VCALENDAR