BEGIN:VCALENDAR
VERSION:2.0
PRODID:-//New Hope Manoa - ECPv6.13.2.1//NONSGML v1.0//EN
CALSCALE:GREGORIAN
METHOD:PUBLISH
X-WR-CALNAME:New Hope Manoa
X-ORIGINAL-URL:https://newhopemanoa.tv
X-WR-CALDESC:Events for New Hope Manoa
REFRESH-INTERVAL;VALUE=DURATION:PT1H
X-Robots-Tag:noindex
X-PUBLISHED-TTL:PT1H
BEGIN:VTIMEZONE
TZID:Pacific/Honolulu
BEGIN:STANDARD
TZOFFSETFROM:-1000
TZOFFSETTO:-1000
TZNAME:HST
DTSTART:20250101T000000
END:STANDARD
END:VTIMEZONE
BEGIN:VEVENT
DTSTART;TZID=Pacific/Honolulu:20250920T084500
DTEND;TZID=Pacific/Honolulu:20250920T130000
DTSTAMP:20260423T173114
CREATED:20250906T084815Z
LAST-MODIFIED:20250917T002820Z
UID:25028-1758357900-1758373200@newhopemanoa.tv
SUMMARY:Lo’i Kalo Community Outreach
DESCRIPTION:Come Help at a Loʻi Kalo (Taro Farm)! 🌱 All are welcome! \nJoin us for a day filled with fun and purpose! \n📅 Saturday\, September 20\n🕗 8:45 AM – 1:00 PM\n📍 ʻAiea near Sumida Farm\n🚗 Park at Pearlridge \n  \nWhat to Bring: \nClothes you don’t mind getting muddy\nA refillable water bottle 💧 \nRSVP with Malia
URL:https://newhopemanoa.tv/event/loi-kalo-community-outreach-2/
LOCATION:Lo’i Kalo in ‘Aiea
ATTACH;FMTTYPE=image/png:https://newhopemanoa.tv/wp-content/uploads/2025/09/Screen-Shot-2025-09-05-at-10.45.37-PM-e1757148665882.png
END:VEVENT
END:VCALENDAR