BEGIN:VCALENDAR
VERSION:2.0
PRODID:-//New Hope Manoa - ECPv6.13.2.1//NONSGML v1.0//EN
CALSCALE:GREGORIAN
METHOD:PUBLISH
X-WR-CALNAME:New Hope Manoa
X-ORIGINAL-URL:https://newhopemanoa.tv
X-WR-CALDESC:Events for New Hope Manoa
REFRESH-INTERVAL;VALUE=DURATION:PT1H
X-Robots-Tag:noindex
X-PUBLISHED-TTL:PT1H
BEGIN:VTIMEZONE
TZID:Pacific/Honolulu
BEGIN:STANDARD
TZOFFSETFROM:-1000
TZOFFSETTO:-1000
TZNAME:HST
DTSTART:20250101T000000
END:STANDARD
END:VTIMEZONE
BEGIN:VEVENT
DTSTART;TZID=Pacific/Honolulu:20250924T190000
DTEND;TZID=Pacific/Honolulu:20250924T203000
DTSTAMP:20260423T173114
CREATED:20250803T010055Z
LAST-MODIFIED:20250912T220008Z
UID:24283-1758740400-1758745800@newhopemanoa.tv
SUMMARY:Bible Revival Midweek Small Group
DESCRIPTION:Grow mānoa in our relationship with God through His Word. Join in the Bible Revival small group on Wednesdays\, August 27 to September 24 (but no meeting on September 17)\, 7:00-8:30 PM\, at the Shimabukuro home. Please contact Pastor Rod for more info at rod@enewhope.org. \nNot able to make it in person? Please join us on Zoom: Bible Revival Zoom Link
URL:https://newhopemanoa.tv/event/bible-revival-midweek-small-group-5/
LOCATION:Shimabukuro’s House
ATTACH;FMTTYPE=image/png:https://newhopemanoa.tv/wp-content/uploads/2025/08/BibleRevival.png
END:VEVENT
END:VCALENDAR