BEGIN:VCALENDAR
VERSION:2.0
PRODID:-//New Hope Manoa - ECPv6.13.2.1//NONSGML v1.0//EN
CALSCALE:GREGORIAN
METHOD:PUBLISH
X-WR-CALNAME:New Hope Manoa
X-ORIGINAL-URL:https://newhopemanoa.tv
X-WR-CALDESC:Events for New Hope Manoa
REFRESH-INTERVAL;VALUE=DURATION:PT1H
X-Robots-Tag:noindex
X-PUBLISHED-TTL:PT1H
BEGIN:VTIMEZONE
TZID:Pacific/Honolulu
BEGIN:STANDARD
TZOFFSETFROM:-1000
TZOFFSETTO:-1000
TZNAME:HST
DTSTART:20250101T000000
END:STANDARD
END:VTIMEZONE
BEGIN:VEVENT
DTSTART;TZID=Pacific/Honolulu:20251001T190000
DTEND;TZID=Pacific/Honolulu:20251001T203000
DTSTAMP:20260423T155404
CREATED:20250927T081839Z
LAST-MODIFIED:20250927T081921Z
UID:25278-1759345200-1759350600@newhopemanoa.tv
SUMMARY:Bible Revival Midweek Small Group
DESCRIPTION:We’ve added another Bible Revival small group on Wednesday\, October 1\, 7:00-8:30 PM\, at the Shimabukuro home. Grow mānoa in our relationship with God through His Word. Please contact Pastor Rod for more info at rod@enewhope.org. \nNot able to make it in person? Please join us on Zoom: Bible Revival Zoom Link
URL:https://newhopemanoa.tv/event/bible-revival-midweek-small-group-4/
LOCATION:Shimabukuro’s House
ATTACH;FMTTYPE=image/png:https://newhopemanoa.tv/wp-content/uploads/2025/08/BibleRevival.png
END:VEVENT
END:VCALENDAR