BEGIN:VCALENDAR
VERSION:2.0
PRODID:-//New Hope Manoa - ECPv6.13.2.1//NONSGML v1.0//EN
CALSCALE:GREGORIAN
METHOD:PUBLISH
X-ORIGINAL-URL:https://newhopemanoa.tv
X-WR-CALDESC:Events for New Hope Manoa
REFRESH-INTERVAL;VALUE=DURATION:PT1H
X-Robots-Tag:noindex
X-PUBLISHED-TTL:PT1H
BEGIN:VTIMEZONE
TZID:Pacific/Honolulu
BEGIN:STANDARD
TZOFFSETFROM:-1000
TZOFFSETTO:-1000
TZNAME:HST
DTSTART:20250101T000000
END:STANDARD
END:VTIMEZONE
BEGIN:VEVENT
DTSTART;TZID=Pacific/Honolulu:20251105T180000
DTEND;TZID=Pacific/Honolulu:20251105T203000
DTSTAMP:20260423T141956
CREATED:20251008T211129Z
LAST-MODIFIED:20251027T070528Z
UID:25390-1762365600-1762374600@newhopemanoa.tv
SUMMARY:‘Ohana Life Group
DESCRIPTION:Please join us at the Midweek ‘Ohana Life Group at the Shimabukuro home on November 5 at 6:00 PM.  Potluck at 6:00 PM followed by Life Group 7:15-8:30 PM. Leaders\, volunteers and all ‘ohana are invited! \n 
URL:https://newhopemanoa.tv/event/ohana-life-group/
LOCATION:Shimabukuro’s House
END:VEVENT
END:VCALENDAR