BEGIN:VCALENDAR
VERSION:2.0
PRODID:-//New Hope Manoa - ECPv6.13.2.1//NONSGML v1.0//EN
CALSCALE:GREGORIAN
METHOD:PUBLISH
X-WR-CALNAME:New Hope Manoa
X-ORIGINAL-URL:https://newhopemanoa.tv
X-WR-CALDESC:Events for New Hope Manoa
REFRESH-INTERVAL;VALUE=DURATION:PT1H
X-Robots-Tag:noindex
X-PUBLISHED-TTL:PT1H
BEGIN:VTIMEZONE
TZID:Pacific/Honolulu
BEGIN:STANDARD
TZOFFSETFROM:-1000
TZOFFSETTO:-1000
TZNAME:HST
DTSTART:20250101T000000
END:STANDARD
END:VTIMEZONE
BEGIN:VEVENT
DTSTART;TZID=Pacific/Honolulu:20251113T190000
DTEND;TZID=Pacific/Honolulu:20251113T210000
DTSTAMP:20260423T141906
CREATED:20251027T205423Z
LAST-MODIFIED:20251027T205423Z
UID:25909-1763060400-1763067600@newhopemanoa.tv
SUMMARY:The Lion King Jr.
DESCRIPTION:New Hope Oʻahu’s YPAC proudly presents Disney’s The Lion King Jr. \nShowtimes: November 13\, 14\, & 16\n7:00 PM \nPurchase your tickets now at bit.ly/ypachi. \nDon’t miss this inspiring and joy-filled production for the whole family!
URL:https://newhopemanoa.tv/event/the-lion-king-jr/
LOCATION:New Hope O’ahu\, 290 Sand Island Access Road\, Honolulu\, HI
END:VEVENT
END:VCALENDAR