BEGIN:VCALENDAR
VERSION:2.0
PRODID:-//New Hope Manoa - ECPv6.13.2.1//NONSGML v1.0//EN
CALSCALE:GREGORIAN
METHOD:PUBLISH
X-WR-CALNAME:New Hope Manoa
X-ORIGINAL-URL:https://newhopemanoa.tv
X-WR-CALDESC:Events for New Hope Manoa
REFRESH-INTERVAL;VALUE=DURATION:PT1H
X-Robots-Tag:noindex
X-PUBLISHED-TTL:PT1H
BEGIN:VTIMEZONE
TZID:Pacific/Honolulu
BEGIN:STANDARD
TZOFFSETFROM:-1000
TZOFFSETTO:-1000
TZNAME:HST
DTSTART:20250101T000000
END:STANDARD
END:VTIMEZONE
BEGIN:VEVENT
DTSTART;TZID=Pacific/Honolulu:20251115T084500
DTEND;TZID=Pacific/Honolulu:20251115T130000
DTSTAMP:20260423T141906
CREATED:20250923T235734Z
LAST-MODIFIED:20251027T070747Z
UID:25213-1763196300-1763211600@newhopemanoa.tv
SUMMARY:Loʻi Kalo Community Outreach
DESCRIPTION:Hoʻōla Hou iā Kalauao \nJoin us for a day filled with fun and purpose!  Come help at a loʻi kalo (taro farm)! 🌱 All are welcome! \n📅 Saturday\, November 15\n🕗 8:45 AM – 1:00 PM\n📍 ʻAiea near Sumida Farm\n🚗 Park at Pearlridge \nWhat to Bring:\nClothes you don’t mind getting muddy\nA refillable water bottle 💧 \nComplete Waiver Release Form (once per year) https://bit.ly/hhikwaiver \nHoʻōla Hou iā Kalauao website \nRSVP with Malia \n \n 
URL:https://newhopemanoa.tv/event/loi-kalo-community-outreach-4/
LOCATION:Lo’i Kalo in ‘Aiea
END:VEVENT
BEGIN:VEVENT
DTSTART;TZID=Pacific/Honolulu:20251115T120000
DTEND;TZID=Pacific/Honolulu:20251115T160000
DTSTAMP:20260423T141906
CREATED:20251004T030116Z
LAST-MODIFIED:20251030T060022Z
UID:25362-1763208000-1763222400@newhopemanoa.tv
SUMMARY:Golf Gathering
DESCRIPTION:Join Al for a round of golf at Moanalua Golf Course on November 15 at 12:00 noon! It’s a wonderful time of fellowship. Please RSVP with  Al Sakihara. \n 
URL:https://newhopemanoa.tv/event/golf-gathering/
LOCATION:Moanalua Golf Course
END:VEVENT
END:VCALENDAR