BEGIN:VCALENDAR
VERSION:2.0
PRODID:-//New Hope Manoa - ECPv6.13.2.1//NONSGML v1.0//EN
CALSCALE:GREGORIAN
METHOD:PUBLISH
X-ORIGINAL-URL:https://newhopemanoa.tv
X-WR-CALDESC:Events for New Hope Manoa
REFRESH-INTERVAL;VALUE=DURATION:PT1H
X-Robots-Tag:noindex
X-PUBLISHED-TTL:PT1H
BEGIN:VTIMEZONE
TZID:Pacific/Honolulu
BEGIN:STANDARD
TZOFFSETFROM:-1000
TZOFFSETTO:-1000
TZNAME:HST
DTSTART:20250101T000000
END:STANDARD
END:VTIMEZONE
BEGIN:VEVENT
DTSTART;TZID=Pacific/Honolulu:20251116T083000
DTEND;TZID=Pacific/Honolulu:20251116T113000
DTSTAMP:20260423T141956
CREATED:20251023T052521Z
LAST-MODIFIED:20251115T011521Z
UID:25786-1763281800-1763292600@newhopemanoa.tv
SUMMARY:Nepal Bake and Craft Fair
DESCRIPTION:Support our Nepal mission team at the Bake and Craft Fair! \nWhen: Sunday November 16\, 2025\n8:30am-9:20am and 10:30-11:30am \nWhere: Bakken Auditorium Breezeway \nWhat: Sell your baked goods\, crafts\, and household items for a good cause. \nWhy: Proceeds will offset food\, lodging\, and medication costs for the 2026 Nepal Mission. \nHow can I help?\n· Donate baked goods (cookies\, brownies\, party mix\, etc.)\, crafts\, or household items to be sold. Please price items (to the nearest dollar). Bring items to church on the sale date and staff your own table.  If you are unable to staff a table but would like to donate goods\, let us know.\n· Help with set up (7:30-8:30am) and/or breakdown (11:30-12:00pm).\n· If you would like to make a monetary donation\, please make checks payable to “New Hope Manoa” and write “Restricted Missions” on the memo line.\n· Or just come to browse\, shop and enjoy! Both cash and major credit cards will be accepted for purchases. \nPlease email Raquel at raquel@hawaii.rr.com to donate or for more info. \n 
URL:https://newhopemanoa.tv/event/nepal-bake-and-craft-fair/
LOCATION:Mid-Pacific Institute Bakken Auditorium
END:VEVENT
BEGIN:VEVENT
DTSTART;TZID=Pacific/Honolulu:20251116T190000
DTEND;TZID=Pacific/Honolulu:20251116T210000
DTSTAMP:20260423T141956
CREATED:20251027T205649Z
LAST-MODIFIED:20251027T205649Z
UID:25913-1763319600-1763326800@newhopemanoa.tv
SUMMARY:The Lion King Jr.
DESCRIPTION:New Hope Oʻahu’s YPAC proudly presents Disney’s The Lion King Jr. \nShowtimes: November 13\, 14\, & 16\n7:00 PM \nPurchase your tickets now at bit.ly/ypachi. \nDon’t miss this inspiring and joy-filled production for the whole family!
URL:https://newhopemanoa.tv/event/the-lion-king-jr-3/
LOCATION:New Hope O’ahu\, 290 Sand Island Access Road\, Honolulu\, HI
END:VEVENT
END:VCALENDAR