BEGIN:VCALENDAR
VERSION:2.0
PRODID:-//New Hope Manoa - ECPv6.13.2.1//NONSGML v1.0//EN
CALSCALE:GREGORIAN
METHOD:PUBLISH
X-WR-CALNAME:New Hope Manoa
X-ORIGINAL-URL:https://newhopemanoa.tv
X-WR-CALDESC:Events for New Hope Manoa
REFRESH-INTERVAL;VALUE=DURATION:PT1H
X-Robots-Tag:noindex
X-PUBLISHED-TTL:PT1H
BEGIN:VTIMEZONE
TZID:Pacific/Honolulu
BEGIN:STANDARD
TZOFFSETFROM:-1000
TZOFFSETTO:-1000
TZNAME:HST
DTSTART:20250101T000000
END:STANDARD
END:VTIMEZONE
BEGIN:VEVENT
DTSTART;TZID=Pacific/Honolulu:20251208T173000
DTEND;TZID=Pacific/Honolulu:20251208T200000
DTSTAMP:20260423T124827
CREATED:20251208T215313Z
LAST-MODIFIED:20251208T215438Z
UID:26734-1765215000-1765224000@newhopemanoa.tv
SUMMARY:Pickleball Hangout
DESCRIPTION:Come hang out and play pickleball with Malia at Pickles at Forte in downtown\, Monday\, December 8\, 5:30-8:00 PM. $10 per person. Contact Malia (IG: @maliashima) for more info.
URL:https://newhopemanoa.tv/event/pickleball-hangout/
LOCATION:Pickles at Forte
END:VEVENT
END:VCALENDAR