BEGIN:VCALENDAR
VERSION:2.0
PRODID:-//New Hope Manoa - ECPv6.13.2.1//NONSGML v1.0//EN
CALSCALE:GREGORIAN
METHOD:PUBLISH
X-WR-CALNAME:New Hope Manoa
X-ORIGINAL-URL:https://newhopemanoa.tv
X-WR-CALDESC:Events for New Hope Manoa
REFRESH-INTERVAL;VALUE=DURATION:PT1H
X-Robots-Tag:noindex
X-PUBLISHED-TTL:PT1H
BEGIN:VTIMEZONE
TZID:Pacific/Honolulu
BEGIN:STANDARD
TZOFFSETFROM:-1000
TZOFFSETTO:-1000
TZNAME:HST
DTSTART:20250101T000000
END:STANDARD
END:VTIMEZONE
BEGIN:VEVENT
DTSTART;VALUE=DATE:20251214
DTEND;VALUE=DATE:20251215
DTSTAMP:20260423T141905
CREATED:20251203T031720Z
LAST-MODIFIED:20251212T202658Z
UID:26598-1765670400-1765756799@newhopemanoa.tv
SUMMARY:Food Drive for Aloha Harvest
DESCRIPTION:Let’s give the gift of nourishment this Christmas season! We will be collecting canned or dry goods for Aloha Harvest’s Food Distribution.  Bring your donations to church on Sunday\, December 14. Donations can also be dropped off at the Shimabukuro’s home in Kaimuki.
URL:https://newhopemanoa.tv/event/food-drive-for-aloha-harvest-2/
LOCATION:Mid-Pacific Institute Bakken Auditorium
END:VEVENT
END:VCALENDAR