BEGIN:VCALENDAR
VERSION:2.0
PRODID:-//New Hope Manoa - ECPv6.13.2.1//NONSGML v1.0//EN
CALSCALE:GREGORIAN
METHOD:PUBLISH
X-WR-CALNAME:New Hope Manoa
X-ORIGINAL-URL:https://newhopemanoa.tv
X-WR-CALDESC:Events for New Hope Manoa
REFRESH-INTERVAL;VALUE=DURATION:PT1H
X-Robots-Tag:noindex
X-PUBLISHED-TTL:PT1H
BEGIN:VTIMEZONE
TZID:Pacific/Honolulu
BEGIN:STANDARD
TZOFFSETFROM:-1000
TZOFFSETTO:-1000
TZNAME:HST
DTSTART:20250101T000000
END:STANDARD
END:VTIMEZONE
BEGIN:VEVENT
DTSTART;TZID=Pacific/Honolulu:20251219T100000
DTEND;TZID=Pacific/Honolulu:20251219T140000
DTSTAMP:20260423T124918
CREATED:20251211T020929Z
LAST-MODIFIED:20251212T203137Z
UID:26773-1766138400-1766152800@newhopemanoa.tv
SUMMARY:Friday Beach Day
DESCRIPTION:Calling all young adults and youth (parents are welcome) for a Friday funday at Kaimana Beach! Fellowship\, food\, and lots of fun!! Friday\, December 19\, 10:00 AM to 2:00 PM. RSVP with Malia (ph. 808-375-2064).
URL:https://newhopemanoa.tv/event/friday-beach-day/
LOCATION:Kaimana Beach
END:VEVENT
END:VCALENDAR