BEGIN:VCALENDAR
VERSION:2.0
PRODID:-//New Hope Manoa - ECPv6.13.2.1//NONSGML v1.0//EN
CALSCALE:GREGORIAN
METHOD:PUBLISH
X-ORIGINAL-URL:https://newhopemanoa.tv
X-WR-CALDESC:Events for New Hope Manoa
REFRESH-INTERVAL;VALUE=DURATION:PT1H
X-Robots-Tag:noindex
X-PUBLISHED-TTL:PT1H
BEGIN:VTIMEZONE
TZID:Pacific/Honolulu
BEGIN:STANDARD
TZOFFSETFROM:-1000
TZOFFSETTO:-1000
TZNAME:HST
DTSTART:20250101T000000
END:STANDARD
END:VTIMEZONE
BEGIN:VEVENT
DTSTART;TZID=Pacific/Honolulu:20251224T170000
DTEND;TZID=Pacific/Honolulu:20251224T183000
DTSTAMP:20260423T125025
CREATED:20251128T164347Z
LAST-MODIFIED:20251212T213330Z
UID:26480-1766595600-1766601000@newhopemanoa.tv
SUMMARY:Christmas Eve Service at Waioli Chapel
DESCRIPTION:You are invited to join us for one of two special services on Christmas Eve at the beautiful Waioli Chapel. Waioli Kitchen and Bake Shop will be providing treats and coffee after each service.  Bring your family and friends to celebrate “God with us!” \nWednesday\, December 24\n5:00 & 7:00 PM\nWaioli Chapel\n2950 Manoa Road
URL:https://newhopemanoa.tv/event/christmas-eve-service-at-waioli-chapel/
LOCATION:Waioli Chapel\, 2950 Manoa Road\, Honolulu\, HI\, 96822\, United States
END:VEVENT
BEGIN:VEVENT
DTSTART;TZID=Pacific/Honolulu:20251224T190000
DTEND;TZID=Pacific/Honolulu:20251224T203000
DTSTAMP:20260423T125025
CREATED:20251128T164546Z
LAST-MODIFIED:20251212T213635Z
UID:26482-1766602800-1766608200@newhopemanoa.tv
SUMMARY:Christmas Eve Service at Waioli Chapel
DESCRIPTION:You are invited to join us for one of two special services on Christmas Eve at the beautiful Waioli Chapel. Waioli Kitchen and Bake Shop will be providing treats and coffee after each service.  Bring your family and friends to celebrate “God with us!” \nWednesday\, December 24\n5:00 & 7:00 PM\nWaioli Chapel\n2950 Manoa Road
URL:https://newhopemanoa.tv/event/christmas-eve-service-at-waioli-chapel-2/
LOCATION:Waioli Chapel\, 2950 Manoa Road\, Honolulu\, HI\, 96822\, United States
END:VEVENT
END:VCALENDAR