BEGIN:VCALENDAR
VERSION:2.0
PRODID:-//New Hope Manoa - ECPv6.13.2.1//NONSGML v1.0//EN
CALSCALE:GREGORIAN
METHOD:PUBLISH
X-WR-CALNAME:New Hope Manoa
X-ORIGINAL-URL:https://newhopemanoa.tv
X-WR-CALDESC:Events for New Hope Manoa
REFRESH-INTERVAL;VALUE=DURATION:PT1H
X-Robots-Tag:noindex
X-PUBLISHED-TTL:PT1H
BEGIN:VTIMEZONE
TZID:Pacific/Honolulu
BEGIN:STANDARD
TZOFFSETFROM:-1000
TZOFFSETTO:-1000
TZNAME:HST
DTSTART:20250101T000000
END:STANDARD
END:VTIMEZONE
BEGIN:VEVENT
DTSTART;TZID=Pacific/Honolulu:20251227T090000
DTEND;TZID=Pacific/Honolulu:20251227T103000
DTSTAMP:20260423T124918
CREATED:20250712T022033Z
LAST-MODIFIED:20251220T234942Z
UID:23968-1766826000-1766831400@newhopemanoa.tv
SUMMARY:Women’s Bible Study
DESCRIPTION:Join Wendy and Raquel as they lead a Women’s Bible Study through the Book of Acts. Come for a time of worship\, prayer\, studying the Word of God\, and fellowship. Please contact Raquel (raquel@hawaii.rr.com) for more information. \nHappening once per month. Light refreshments will be served. \n“They were continually devoting themselves to the apostles’ teaching and to fellowship\, to the breaking of bread and to prayer.”\nActs 2:42 NASB \n 
URL:https://newhopemanoa.tv/event/womens-bible-study-15/
LOCATION:Raquel’s House
END:VEVENT
END:VCALENDAR