BEGIN:VCALENDAR
VERSION:2.0
PRODID:-//New Hope Manoa - ECPv6.13.2.1//NONSGML v1.0//EN
CALSCALE:GREGORIAN
METHOD:PUBLISH
X-WR-CALNAME:New Hope Manoa
X-ORIGINAL-URL:https://newhopemanoa.tv
X-WR-CALDESC:Events for New Hope Manoa
REFRESH-INTERVAL;VALUE=DURATION:PT1H
X-Robots-Tag:noindex
X-PUBLISHED-TTL:PT1H
BEGIN:VTIMEZONE
TZID:Pacific/Honolulu
BEGIN:STANDARD
TZOFFSETFROM:-1000
TZOFFSETTO:-1000
TZNAME:HST
DTSTART:20260101T000000
END:STANDARD
END:VTIMEZONE
BEGIN:VEVENT
DTSTART;TZID=Pacific/Honolulu:20260110T083000
DTEND;TZID=Pacific/Honolulu:20260110T103000
DTSTAMP:20260423T111932
CREATED:20260103T212539Z
LAST-MODIFIED:20260105T044827Z
UID:27255-1768033800-1768041000@newhopemanoa.tv
SUMMARY:New Hope Boxing Clinic
DESCRIPTION:New year\, new schedule. New Hope Boxing Clinic is now meeting on Saturdays at 8:30 AM at Magic Island Beach Park starting January 10. All levels welcome! \nPlease follow the New Hope Boxing Clinic Instagram page (@newhopeboxingclinic) for weather updates and more. \n  \n \n 
URL:https://newhopemanoa.tv/event/new-hope-boxing-clinic-29/
LOCATION:Magic Island Ala Moana
END:VEVENT
END:VCALENDAR