BEGIN:VCALENDAR
VERSION:2.0
PRODID:-//New Hope Manoa - ECPv6.13.2.1//NONSGML v1.0//EN
CALSCALE:GREGORIAN
METHOD:PUBLISH
X-WR-CALNAME:New Hope Manoa
X-ORIGINAL-URL:https://newhopemanoa.tv
X-WR-CALDESC:Events for New Hope Manoa
REFRESH-INTERVAL;VALUE=DURATION:PT1H
X-Robots-Tag:noindex
X-PUBLISHED-TTL:PT1H
BEGIN:VTIMEZONE
TZID:Pacific/Honolulu
BEGIN:STANDARD
TZOFFSETFROM:-1000
TZOFFSETTO:-1000
TZNAME:HST
DTSTART:20260101T000000
END:STANDARD
END:VTIMEZONE
BEGIN:VEVENT
DTSTART;VALUE=DATE:20260111
DTEND;VALUE=DATE:20260201
DTSTAMP:20260423T111853
CREATED:20260104T202449Z
LAST-MODIFIED:20260112T021306Z
UID:27271-1768089600-1769903999@newhopemanoa.tv
SUMMARY:21 Days of Prayer & Fasting
DESCRIPTION:Let’s start off 2026 united in fasting and prayer.  Please carefully and prayerfully read through our Prayer and Fasting Guide.  Join us beginning Sunday\, January 11th. \nAll believers are invited to join us whether they attend another church\, our church\, or no church. Small groups\, families\, youth\, keiki\, kūpuna—everyone can participate in some way. \nYou pray.  You choose the amount of days you’d like to fast.  You don’t need to feel obligated to fast the entire 21 days.  Maybe you’d like to fast one or two days each week?  Also\, you pray and you choose what you’d like to fast and how often. \nThere are no rigid rules.  No obligation.  No pressure to perform.  Just a willing heart to pursue God! \nOur BIG DESIRE is for the family of God to draw closer to and grow mānoa (deep\, vast\, solid) in their relationship with God\, one another\, and our world!  May we surrender our hearts and lives to Him\, hear His voice\, and be transformed in obedience to Him.
URL:https://newhopemanoa.tv/event/prayer-and-fasting/
END:VEVENT
BEGIN:VEVENT
DTSTART;TZID=Pacific/Honolulu:20260122T193000
DTEND;TZID=Pacific/Honolulu:20260122T200000
DTSTAMP:20260423T111853
CREATED:20260111T202544Z
LAST-MODIFIED:20260112T021208Z
UID:27441-1769110200-1769112000@newhopemanoa.tv
SUMMARY:21 Days of Prayer & Fasting: Zoom Prayer Time
DESCRIPTION:Join us for prayer on Zoom as part of our 21 Days of Prayer & Fasting.  Email Pastor Rod at rod@enewhope.org for the Zoom link.
URL:https://newhopemanoa.tv/event/prayer-on-zoom-2/
LOCATION:Zoom
END:VEVENT
END:VCALENDAR