BEGIN:VCALENDAR
VERSION:2.0
PRODID:-//New Hope Manoa - ECPv6.13.2.1//NONSGML v1.0//EN
CALSCALE:GREGORIAN
METHOD:PUBLISH
X-WR-CALNAME:New Hope Manoa
X-ORIGINAL-URL:https://newhopemanoa.tv
X-WR-CALDESC:Events for New Hope Manoa
REFRESH-INTERVAL;VALUE=DURATION:PT1H
X-Robots-Tag:noindex
X-PUBLISHED-TTL:PT1H
BEGIN:VTIMEZONE
TZID:Pacific/Honolulu
BEGIN:STANDARD
TZOFFSETFROM:-1000
TZOFFSETTO:-1000
TZNAME:HST
DTSTART:20260101T000000
END:STANDARD
END:VTIMEZONE
BEGIN:VEVENT
DTSTART;TZID=Pacific/Honolulu:20260304T180000
DTEND;TZID=Pacific/Honolulu:20260304T203000
DTSTAMP:20260423T083608
CREATED:20251227T231127Z
LAST-MODIFIED:20260221T003318Z
UID:27114-1772647200-1772656200@newhopemanoa.tv
SUMMARY:'Ohana Life Group
DESCRIPTION:Please join us at the Midweek ‘Ohana Life Group at the Shimabukuro home on March 4 at 6:00 PM. Potluck at 6:00 PM followed by Life Group 7:15–8:30 PM. Leaders\, volunteers\, and all ‘ohana are invited!  Please call or text Pastor Rod at (808) 216-5493 to RSVP.
URL:https://newhopemanoa.tv/event/ohana-life-group-5/
LOCATION:Shimabukuro’s House
END:VEVENT
END:VCALENDAR