BEGIN:VCALENDAR
VERSION:2.0
PRODID:-//New Hope Manoa - ECPv6.13.2.1//NONSGML v1.0//EN
CALSCALE:GREGORIAN
METHOD:PUBLISH
X-ORIGINAL-URL:https://newhopemanoa.tv
X-WR-CALDESC:Events for New Hope Manoa
REFRESH-INTERVAL;VALUE=DURATION:PT1H
X-Robots-Tag:noindex
X-PUBLISHED-TTL:PT1H
BEGIN:VTIMEZONE
TZID:Pacific/Honolulu
BEGIN:STANDARD
TZOFFSETFROM:-1000
TZOFFSETTO:-1000
TZNAME:HST
DTSTART:20260101T000000
END:STANDARD
END:VTIMEZONE
BEGIN:VEVENT
DTSTART;TZID=Pacific/Honolulu:20260328T084500
DTEND;TZID=Pacific/Honolulu:20260328T130000
DTSTAMP:20260423T083738
CREATED:20260322T201550Z
LAST-MODIFIED:20260323T184248Z
UID:28366-1774687500-1774702800@newhopemanoa.tv
SUMMARY:Lo'i Kalo Community Outreach
DESCRIPTION:Hoʻōla Hou iā Kalauao \nJoin us for a day filled with fun and purpose!  Come help at a loʻi kalo (taro farm)!  All are welcome! \n Saturday\, March 28\n 8:45 AM – 1:00 PM\n ʻAiea near Sumida Farm \nWhat to Bring: \n\nClothing that is able to get dirty\nBoots or covered shoes recommended for those doing work outside of the loʻi. High zip up tabis\, high socks\, or barefoot + slippers for after for those going into the loʻi\nWater bottle\, snacks (We’ll have a water cooler.)\nHat\nSunblock (but don’t put on your legs)\nChange of clothes and towel if you want to change before leaving\nA dish or food item to share for lunch (If can can\, no can no worry.)\nMess kit (reusable plate/bowl/utensils for lunch)\n\nComplete Waiver Release Form (once per year) on their website Hoʻōla Hou iā Kalauao \nRSVP with Malia \n 
URL:https://newhopemanoa.tv/event/loi-kalo-community-outreach-10/
LOCATION:Lo’i Kalo in ‘Aiea
END:VEVENT
BEGIN:VEVENT
DTSTART;TZID=Pacific/Honolulu:20260328T100000
DTEND;TZID=Pacific/Honolulu:20260328T130000
DTSTAMP:20260423T083738
CREATED:20260311T201803Z
LAST-MODIFIED:20260323T183350Z
UID:28088-1774692000-1774702800@newhopemanoa.tv
SUMMARY:Women’s Brunch
DESCRIPTION:An Invitation for All Women \nWe hope you can join us at the Women’s Brunch on Saturday\, March 28 from 10:00 AM to 1:00 PM at the Shimabukuro hale in Kaimuki!  Beckie will be sharing her testimony.  It will be a wonderful time of fellowship!  Please bring a potluck dish to share.  RSVP with Gail or Donna Mae. \n 
URL:https://newhopemanoa.tv/event/womens-brunch-3/
LOCATION:Shimabukuro’s House
END:VEVENT
BEGIN:VEVENT
DTSTART;TZID=Pacific/Honolulu:20260328T140000
DTEND;TZID=Pacific/Honolulu:20260328T140000
DTSTAMP:20260423T083738
CREATED:20260321T224303Z
LAST-MODIFIED:20260321T224338Z
UID:28354-1774706400-1774706400@newhopemanoa.tv
SUMMARY:A Musical Treat
DESCRIPTION:Come see Nikki Ikeda Cossi at her graduate recital on Saturday\, March 28\, at 2:00 PM in the Orvis Auditorium at UH Mānoa\, featuring works by Clara Schumann\, Lili Boulanger\, Lori Laitman\, Manuel P. Velez\, and others.  She will be accompanied by Dr. Megumi Kurachi on piano and Marcus Moore on clarinet. \n 
URL:https://newhopemanoa.tv/event/a-musical-treat/
LOCATION:Orvis Auditorium\, UH Manoa\, 2411 Dole Street\, Honolulu\, HI
END:VEVENT
END:VCALENDAR