BEGIN:VCALENDAR
VERSION:2.0
PRODID:-//New Hope Manoa - ECPv6.13.2.1//NONSGML v1.0//EN
CALSCALE:GREGORIAN
METHOD:PUBLISH
X-WR-CALNAME:New Hope Manoa
X-ORIGINAL-URL:https://newhopemanoa.tv
X-WR-CALDESC:Events for New Hope Manoa
REFRESH-INTERVAL;VALUE=DURATION:PT1H
X-Robots-Tag:noindex
X-PUBLISHED-TTL:PT1H
BEGIN:VTIMEZONE
TZID:Pacific/Honolulu
BEGIN:STANDARD
TZOFFSETFROM:-1000
TZOFFSETTO:-1000
TZNAME:HST
DTSTART:20260101T000000
END:STANDARD
END:VTIMEZONE
BEGIN:VEVENT
DTSTART;TZID=Pacific/Honolulu:20260404T090000
DTEND;TZID=Pacific/Honolulu:20260404T103000
DTSTAMP:20260423T071159
CREATED:20251227T220520Z
LAST-MODIFIED:20251227T220520Z
UID:27088-1775293200-1775298600@newhopemanoa.tv
SUMMARY:Women's Bible Study
DESCRIPTION:Join Wendy and Raquel as they lead us through the study\, “Ten Women of the Bible: One by One They Changed the World” by Max Lucado. If you are able\, please purchase the study guide before our gathering.  Come for a time of worship\, prayer\, studying the Word of God\, and fellowship. Please contact Raquel (raquel@hawaii.rr.com) for more information. \nHappening once per month. Light refreshments will be served. \n“They were continually devoting themselves to the apostles’ teaching and to fellowship\,\nto the breaking of bread and to prayer.”\nActs 2:42 NASB
URL:https://newhopemanoa.tv/event/womens-bible-study-16/
LOCATION:Raquel’s House
END:VEVENT
BEGIN:VEVENT
DTSTART;TZID=Pacific/Honolulu:20260404T100000
DTEND;TZID=Pacific/Honolulu:20260404T100000
DTSTAMP:20260423T071159
CREATED:20260321T223430Z
LAST-MODIFIED:20260321T224406Z
UID:28348-1775296800-1775296800@newhopemanoa.tv
SUMMARY:Y&YA Braddah Pool Party
DESCRIPTION:Youth and Young Adult Pool Party for all the braddahs on Saturday\, April 4\, 10:00 AM at the Ahina’s in ‘Aiea. Please RSVP with Brennan or Keahi. \n 
URL:https://newhopemanoa.tv/event/yya-braddah-pool-party/
LOCATION:Ahina’s Place
END:VEVENT
END:VCALENDAR