BEGIN:VCALENDAR
VERSION:2.0
PRODID:-//New Hope Manoa - ECPv6.13.2.1//NONSGML v1.0//EN
CALSCALE:GREGORIAN
METHOD:PUBLISH
X-WR-CALNAME:New Hope Manoa
X-ORIGINAL-URL:https://newhopemanoa.tv
X-WR-CALDESC:Events for New Hope Manoa
REFRESH-INTERVAL;VALUE=DURATION:PT1H
X-Robots-Tag:noindex
X-PUBLISHED-TTL:PT1H
BEGIN:VTIMEZONE
TZID:Pacific/Honolulu
BEGIN:STANDARD
TZOFFSETFROM:-1000
TZOFFSETTO:-1000
TZNAME:HST
DTSTART:20260101T000000
END:STANDARD
END:VTIMEZONE
BEGIN:VEVENT
DTSTART;TZID=Pacific/Honolulu:20260405T093000
DTEND;TZID=Pacific/Honolulu:20260405T103000
DTSTAMP:20260423T071212
CREATED:20251227T232725Z
LAST-MODIFIED:20260406T054851Z
UID:27133-1775381400-1775385000@newhopemanoa.tv
SUMMARY:Resurrection Sunday
DESCRIPTION:Easter service is on Sunday\, April 5\, at 9:30 AM. Invite your family\, friends\, and neighbors to service as we celebrate the resurrection of Jesus Christ our Lord!  Pastor Rod\, Pastor Mike\, and Brennan will be giving the message. \nWith so much hardship\, devastation\, tragedy surrounding us\, we still look forward to celebrating the gift of Life with you… because He lives!  \n \n“Jesus said to her\, ‘I am the resurrection and the life. The one who believes in me will live\, even though they die; and whoever lives by believing in me will never die. Do you believe this?'” \nJohn 11:25-26
URL:https://newhopemanoa.tv/event/easter-service/
END:VEVENT
END:VCALENDAR