BEGIN:VCALENDAR
VERSION:2.0
PRODID:-//New Hope Manoa - ECPv6.13.2.1//NONSGML v1.0//EN
CALSCALE:GREGORIAN
METHOD:PUBLISH
X-ORIGINAL-URL:https://newhopemanoa.tv
X-WR-CALDESC:Events for New Hope Manoa
REFRESH-INTERVAL;VALUE=DURATION:PT1H
X-Robots-Tag:noindex
X-PUBLISHED-TTL:PT1H
BEGIN:VTIMEZONE
TZID:Pacific/Honolulu
BEGIN:STANDARD
TZOFFSETFROM:-1000
TZOFFSETTO:-1000
TZNAME:HST
DTSTART:20260101T000000
END:STANDARD
END:VTIMEZONE
BEGIN:VEVENT
DTSTART;TZID=Pacific/Honolulu:20260419T092500
DTEND;TZID=Pacific/Honolulu:20260419T094500
DTSTAMP:20260423T071312
CREATED:20260419T161853Z
LAST-MODIFIED:20260420T075919Z
UID:28884-1776590700-1776591900@newhopemanoa.tv
SUMMARY:Pre-Service Music
DESCRIPTION:Join us for pre-service music brought to us by four piano students from McKinley High School. Their teacher Scott Takata\, has been a part of our church ‘ohana for the past 20 years. Be blessed by their gift of music!
URL:https://newhopemanoa.tv/event/pre-service-music/
LOCATION:Mid-Pacific Institute Bakken Auditorium
END:VEVENT
END:VCALENDAR