BEGIN:VCALENDAR
VERSION:2.0
PRODID:-//New Hope Manoa - ECPv6.13.2.1//NONSGML v1.0//EN
CALSCALE:GREGORIAN
METHOD:PUBLISH
X-WR-CALNAME:New Hope Manoa
X-ORIGINAL-URL:https://newhopemanoa.tv
X-WR-CALDESC:Events for New Hope Manoa
REFRESH-INTERVAL;VALUE=DURATION:PT1H
X-Robots-Tag:noindex
X-PUBLISHED-TTL:PT1H
BEGIN:VTIMEZONE
TZID:Pacific/Honolulu
BEGIN:STANDARD
TZOFFSETFROM:-1000
TZOFFSETTO:-1000
TZNAME:HST
DTSTART:20260101T000000
END:STANDARD
END:VTIMEZONE
BEGIN:VEVENT
DTSTART;TZID=Pacific/Honolulu:20260503T092500
DTEND;TZID=Pacific/Honolulu:20260503T094500
DTSTAMP:20260423T083635
CREATED:20260419T192034Z
LAST-MODIFIED:20260420T075854Z
UID:28890-1777800300-1777801500@newhopemanoa.tv
SUMMARY:Pre-Service Music
DESCRIPTION:Join us for pre-service music brought to us by four piano students from McKinley High School. Their teacher Scott Takata\, has been a part of our church ‘ohana for the past 20 years. Be blessed by their gift of music!
URL:https://newhopemanoa.tv/event/pre-service-music-3/
LOCATION:Mid-Pacific Institute Bakken Auditorium
END:VEVENT
END:VCALENDAR