BEGIN:VCALENDAR
VERSION:2.0
PRODID:-//New Hope Manoa - ECPv6.13.2.1//NONSGML v1.0//EN
CALSCALE:GREGORIAN
METHOD:PUBLISH
X-ORIGINAL-URL:https://newhopemanoa.tv
X-WR-CALDESC:Events for New Hope Manoa
REFRESH-INTERVAL;VALUE=DURATION:PT1H
X-Robots-Tag:noindex
X-PUBLISHED-TTL:PT1H
BEGIN:VTIMEZONE
TZID:Pacific/Honolulu
BEGIN:STANDARD
TZOFFSETFROM:-1000
TZOFFSETTO:-1000
TZNAME:HST
DTSTART:20250101T000000
END:STANDARD
END:VTIMEZONE
BEGIN:VEVENT
DTSTART;VALUE=DATE:20251214
DTEND;VALUE=DATE:20251215
DTSTAMP:20260423T142621
CREATED:20251203T031720Z
LAST-MODIFIED:20251212T202658Z
UID:26598-1765670400-1765756799@newhopemanoa.tv
SUMMARY:Food Drive for Aloha Harvest
DESCRIPTION:Let’s give the gift of nourishment this Christmas season! We will be collecting canned or dry goods for Aloha Harvest’s Food Distribution.  Bring your donations to church on Sunday\, December 14. Donations can also be dropped off at the Shimabukuro’s home in Kaimuki.
URL:https://newhopemanoa.tv/event/food-drive-for-aloha-harvest-2/
LOCATION:Mid-Pacific Institute Bakken Auditorium
END:VEVENT
BEGIN:VEVENT
DTSTART;TZID=Pacific/Honolulu:20251218T173000
DTEND;TZID=Pacific/Honolulu:20251218T193000
DTSTAMP:20260423T142621
CREATED:20251211T020016Z
LAST-MODIFIED:20251212T203108Z
UID:26768-1766079000-1766086200@newhopemanoa.tv
SUMMARY:'Ohana Movie Night: DAVID
DESCRIPTION:Join us for an ‘Ohana Movie Night of DAVID at Dole Cannery Theatre\, Thursday\, December 18\,  showtime 5:50 PM. Tickets are $10 per person. RSVP with Malia (ph. 808-375-2064).
URL:https://newhopemanoa.tv/event/ohana-movie-night-david/
LOCATION:Dole Cannery Theatre\, 735 B Iwilei Rd\, Honolulu\, HI\, 96817\, United States
END:VEVENT
BEGIN:VEVENT
DTSTART;TZID=Pacific/Honolulu:20251219T100000
DTEND;TZID=Pacific/Honolulu:20251219T140000
DTSTAMP:20260423T142621
CREATED:20251211T020929Z
LAST-MODIFIED:20251212T203137Z
UID:26773-1766138400-1766152800@newhopemanoa.tv
SUMMARY:Friday Beach Day
DESCRIPTION:Calling all young adults and youth (parents are welcome) for a Friday funday at Kaimana Beach! Fellowship\, food\, and lots of fun!! Friday\, December 19\, 10:00 AM to 2:00 PM. RSVP with Malia (ph. 808-375-2064).
URL:https://newhopemanoa.tv/event/friday-beach-day/
LOCATION:Kaimana Beach
END:VEVENT
BEGIN:VEVENT
DTSTART;VALUE=DATE:20251220
DTEND;VALUE=DATE:20251221
DTSTAMP:20260423T142621
CREATED:20251211T015447Z
LAST-MODIFIED:20251212T203231Z
UID:26766-1766188800-1766275199@newhopemanoa.tv
SUMMARY:Beach Bento: Hana Hou Holiday
DESCRIPTION:Support Miranda Chang and her upcoming holiday pop-up at Kahala Hotel Maile Ballroom for the Hana Hou Holiday. \nEarly entry tickets will be available for purchase on December 1. Free entry 3:00-7:00 PM. \nHer many products are great Christmas gifts! \n\nBeach Bento Holiday Bento Boxes (1 Palaka Tote\, 1 Mini Rice Bag Pouch\, and 1 Sticker)\nBags of different styles (totes\, rice bag pouches)\nLocal designed stickers\nChristmas stationary cards\nShorts made from recycled aloha shirts & more!!
URL:https://newhopemanoa.tv/event/beach-bento-hana-hou-holiday/
LOCATION:Kahala Hotel
END:VEVENT
BEGIN:VEVENT
DTSTART;TZID=Pacific/Honolulu:20251220T083000
DTEND;TZID=Pacific/Honolulu:20251220T100000
DTSTAMP:20260423T142621
CREATED:20251217T213231Z
LAST-MODIFIED:20251218T231710Z
UID:26855-1766219400-1766224800@newhopemanoa.tv
SUMMARY:Men's Discipleship Small Group
DESCRIPTION:Men\, we all need a community to grow closer to God! Join the men’s small group on Saturday\, December 20\, 8:30-10:00AM via Zoom. Please contact Pastor Mike (email: ononelson@aol.com) for the link. \n“… [F]or while bodily training is of some value\, godliness is of value in every way\, as it holds promise for the present life and also for the life to come.”\n1 Timothy 4:8 ESV
URL:https://newhopemanoa.tv/event/mens-discipleship-small-group-7/
LOCATION:Zoom
END:VEVENT
BEGIN:VEVENT
DTSTART;TZID=Pacific/Honolulu:20251224T170000
DTEND;TZID=Pacific/Honolulu:20251224T183000
DTSTAMP:20260423T142621
CREATED:20251128T164347Z
LAST-MODIFIED:20251212T213330Z
UID:26480-1766595600-1766601000@newhopemanoa.tv
SUMMARY:Christmas Eve Service at Waioli Chapel
DESCRIPTION:You are invited to join us for one of two special services on Christmas Eve at the beautiful Waioli Chapel. Waioli Kitchen and Bake Shop will be providing treats and coffee after each service.  Bring your family and friends to celebrate “God with us!” \nWednesday\, December 24\n5:00 & 7:00 PM\nWaioli Chapel\n2950 Manoa Road
URL:https://newhopemanoa.tv/event/christmas-eve-service-at-waioli-chapel/
LOCATION:Waioli Chapel\, 2950 Manoa Road\, Honolulu\, HI\, 96822\, United States
END:VEVENT
BEGIN:VEVENT
DTSTART;TZID=Pacific/Honolulu:20251224T190000
DTEND;TZID=Pacific/Honolulu:20251224T203000
DTSTAMP:20260423T142621
CREATED:20251128T164546Z
LAST-MODIFIED:20251212T213635Z
UID:26482-1766602800-1766608200@newhopemanoa.tv
SUMMARY:Christmas Eve Service at Waioli Chapel
DESCRIPTION:You are invited to join us for one of two special services on Christmas Eve at the beautiful Waioli Chapel. Waioli Kitchen and Bake Shop will be providing treats and coffee after each service.  Bring your family and friends to celebrate “God with us!” \nWednesday\, December 24\n5:00 & 7:00 PM\nWaioli Chapel\n2950 Manoa Road
URL:https://newhopemanoa.tv/event/christmas-eve-service-at-waioli-chapel-2/
LOCATION:Waioli Chapel\, 2950 Manoa Road\, Honolulu\, HI\, 96822\, United States
END:VEVENT
BEGIN:VEVENT
DTSTART;TZID=Pacific/Honolulu:20251227T090000
DTEND;TZID=Pacific/Honolulu:20251227T103000
DTSTAMP:20260423T142621
CREATED:20250712T022033Z
LAST-MODIFIED:20251220T234942Z
UID:23968-1766826000-1766831400@newhopemanoa.tv
SUMMARY:Women’s Bible Study
DESCRIPTION:Join Wendy and Raquel as they lead a Women’s Bible Study through the Book of Acts. Come for a time of worship\, prayer\, studying the Word of God\, and fellowship. Please contact Raquel (raquel@hawaii.rr.com) for more information. \nHappening once per month. Light refreshments will be served. \n“They were continually devoting themselves to the apostles’ teaching and to fellowship\, to the breaking of bread and to prayer.”\nActs 2:42 NASB \n 
URL:https://newhopemanoa.tv/event/womens-bible-study-15/
LOCATION:Raquel’s House
END:VEVENT
BEGIN:VEVENT
DTSTART;TZID=Pacific/Honolulu:20260107T180000
DTEND;TZID=Pacific/Honolulu:20260107T203000
DTSTAMP:20260423T142621
CREATED:20251227T230918Z
LAST-MODIFIED:20260105T045206Z
UID:27109-1767808800-1767817800@newhopemanoa.tv
SUMMARY:'Ohana Life Group
DESCRIPTION:Please join us at the Midweek ‘Ohana Life Group at the Shimabukuro home on January 7 at 6:00 PM. Potluck at 6:00 PM followed by Life Group 7:15-8:30 PM. Leaders\, volunteers\, and all ‘ohana are invited!  PLEASE RSVP with Pastor Rod: call or text (808) 216-5493.
URL:https://newhopemanoa.tv/event/ohana-life-group-3/
LOCATION:Shimabukuro’s House
END:VEVENT
BEGIN:VEVENT
DTSTART;TZID=Pacific/Honolulu:20260110T083000
DTEND;TZID=Pacific/Honolulu:20260110T103000
DTSTAMP:20260423T142621
CREATED:20260103T212539Z
LAST-MODIFIED:20260105T044827Z
UID:27255-1768033800-1768041000@newhopemanoa.tv
SUMMARY:New Hope Boxing Clinic
DESCRIPTION:New year\, new schedule. New Hope Boxing Clinic is now meeting on Saturdays at 8:30 AM at Magic Island Beach Park starting January 10. All levels welcome! \nPlease follow the New Hope Boxing Clinic Instagram page (@newhopeboxingclinic) for weather updates and more. \n  \n \n 
URL:https://newhopemanoa.tv/event/new-hope-boxing-clinic-29/
LOCATION:Magic Island Ala Moana
END:VEVENT
BEGIN:VEVENT
DTSTART;VALUE=DATE:20260111
DTEND;VALUE=DATE:20260201
DTSTAMP:20260423T142621
CREATED:20260104T202449Z
LAST-MODIFIED:20260112T021306Z
UID:27271-1768089600-1769903999@newhopemanoa.tv
SUMMARY:21 Days of Prayer & Fasting
DESCRIPTION:Let’s start off 2026 united in fasting and prayer.  Please carefully and prayerfully read through our Prayer and Fasting Guide.  Join us beginning Sunday\, January 11th. \nAll believers are invited to join us whether they attend another church\, our church\, or no church. Small groups\, families\, youth\, keiki\, kūpuna—everyone can participate in some way. \nYou pray.  You choose the amount of days you’d like to fast.  You don’t need to feel obligated to fast the entire 21 days.  Maybe you’d like to fast one or two days each week?  Also\, you pray and you choose what you’d like to fast and how often. \nThere are no rigid rules.  No obligation.  No pressure to perform.  Just a willing heart to pursue God! \nOur BIG DESIRE is for the family of God to draw closer to and grow mānoa (deep\, vast\, solid) in their relationship with God\, one another\, and our world!  May we surrender our hearts and lives to Him\, hear His voice\, and be transformed in obedience to Him.
URL:https://newhopemanoa.tv/event/prayer-and-fasting/
END:VEVENT
BEGIN:VEVENT
DTSTART;TZID=Pacific/Honolulu:20260115T193000
DTEND;TZID=Pacific/Honolulu:20260115T200000
DTSTAMP:20260423T142621
CREATED:20260111T202502Z
LAST-MODIFIED:20260112T021142Z
UID:27439-1768505400-1768507200@newhopemanoa.tv
SUMMARY:21 Days of Prayer & Fasting: Zoom Prayer Time
DESCRIPTION:Join us for prayer on Zoom as part of our 21 Days of Prayer & Fasting.  Email Pastor Rod at rod@enewhope.org for the Zoom link.
URL:https://newhopemanoa.tv/event/prayer-on-zoom/
LOCATION:Zoom
END:VEVENT
BEGIN:VEVENT
DTSTART;VALUE=DATE:20260117
DTEND;VALUE=DATE:20260118
DTSTAMP:20260423T142621
CREATED:20251228T160606Z
LAST-MODIFIED:20260116T212454Z
UID:27189-1768608000-1768694399@newhopemanoa.tv
SUMMARY:Registration Opens for Hearts in Motion Dance Classes
DESCRIPTION:Learn to dance at New Hope O’ahu’s Hearts in Motion Dance School! All ages and abilities are welcome! The spring session begins on January 29. Registration opens on January 17. \nClasses are held on Thursdays at New Hope O’ahu in Sand Island\, and each class is one hour long. Classes include hula\, hip-hop\, worship sign\, lyrical dance\, Samoan\, and Tahitian.  We hope you will join us! \nClasses: Thursdays\, January 29 to March 5\nHO’IKE: FRIDAY\, MARCH 6 \nVisit nhodance.org for more info and to register.
URL:https://newhopemanoa.tv/event/hearts-in-motion-dance-classes/
LOCATION:New Hope O’ahu\, 290 Sand Island Access Road\, Honolulu\, HI
END:VEVENT
BEGIN:VEVENT
DTSTART;TZID=Pacific/Honolulu:20260117T083000
DTEND;TZID=Pacific/Honolulu:20260117T103000
DTSTAMP:20260423T142621
CREATED:20260112T022513Z
LAST-MODIFIED:20260112T022513Z
UID:27457-1768638600-1768645800@newhopemanoa.tv
SUMMARY:New Hope Boxing Clinic
DESCRIPTION:New Hope Boxing Clinic is meets on Saturdays at Magic Island Beach Park. All levels welcome! Beginners start at 8:30 AM. \nPlease follow the New Hope Boxing Clinic Instagram page (@newhopeboxingclinic) for weather updates and more.
URL:https://newhopemanoa.tv/event/new-hope-boxing-clinic-31/
LOCATION:Magic Island Ala Moana
END:VEVENT
BEGIN:VEVENT
DTSTART;TZID=Pacific/Honolulu:20260117T090000
DTEND;TZID=Pacific/Honolulu:20260117T103000
DTSTAMP:20260423T142621
CREATED:20251227T220025Z
LAST-MODIFIED:20260107T033638Z
UID:27078-1768640400-1768645800@newhopemanoa.tv
SUMMARY:Women's Bible Study
DESCRIPTION:Join Wendy and Raquel as they lead us through a new study\, “Ten Women of the Bible: One by One They Changed the World” by Max Lucado. If you are able\, please purchase the study guide before our gathering. Come for a time of worship\, prayer\, studying the Word of God\, and fellowship. Please contact Raquel (raquel@hawaii.rr.com) for more information. \nHappening once per month. Light refreshments will be served. \n“They were continually devoting themselves to the apostles’ teaching and to fellowship\,\nto the breaking of bread and to prayer.”\nActs 2:42 NASB
URL:https://newhopemanoa.tv/event/womens-bible-study-3/
LOCATION:Raquel’s House
END:VEVENT
BEGIN:VEVENT
DTSTART;TZID=Pacific/Honolulu:20260117T090000
DTEND;TZID=Pacific/Honolulu:20260117T130000
DTSTAMP:20260423T142621
CREATED:20251227T223131Z
LAST-MODIFIED:20251227T231752Z
UID:27104-1768640400-1768654800@newhopemanoa.tv
SUMMARY:Lo'i Kalo Community Outreach
DESCRIPTION:Hoʻōla Hou iā Kalauao \nJoin us for a day filled with fun and purpose!  Come help at a loʻi kalo (taro farm) on the third Saturday of every month!  All are welcome! \n Saturday\, January 17\n 9:00 AM – 1:00 PM\n ʻAiea near Sumida Farm \nWhat to Bring: \n\nClothing that is able to get dirty\nBoots or covered shoes recommended for those doing work outside of the loʻi. High zip up tabis\, high socks\, or barefoot + slippers for after for those going into the loʻi\nWater bottle\, snacks (We’ll have a water cooler.)\nHat\nSunblock (but don’t put on your legs)\nChange of clothes and towel if you want to change before leaving\nA dish or food item to share for lunch (If can can\, no can no worry.)\nMess kit (reusable plate/bowl/utensils for lunch)\n\nComplete Waiver Release Form (once per year) on their website Hoʻōla Hou iā Kalauao \nRSVP with Malia \n 
URL:https://newhopemanoa.tv/event/loi-kalo-community-outreach-5/
LOCATION:Lo’i Kalo in ‘Aiea
END:VEVENT
BEGIN:VEVENT
DTSTART;TZID=Pacific/Honolulu:20260118T083000
DTEND;TZID=Pacific/Honolulu:20260118T090000
DTSTAMP:20260423T142621
CREATED:20260111T202213Z
LAST-MODIFIED:20260112T021702Z
UID:27434-1768725000-1768726800@newhopemanoa.tv
SUMMARY:21 Days of Prayer & Fasting: Pre-Service Prayer Time
DESCRIPTION:Gather with us for prayer before service as part of our 21 Days of Prayer & Fasting.  Join us at the Mid-Pacific Institute cafeteria on Sunday\, January 18\, at 8:30 AM.
URL:https://newhopemanoa.tv/event/pre-service-prayer/
LOCATION:Mid-Pacific Institute Cafeteria
END:VEVENT
BEGIN:VEVENT
DTSTART;TZID=Pacific/Honolulu:20260122T193000
DTEND;TZID=Pacific/Honolulu:20260122T200000
DTSTAMP:20260423T142621
CREATED:20260111T202544Z
LAST-MODIFIED:20260112T021208Z
UID:27441-1769110200-1769112000@newhopemanoa.tv
SUMMARY:21 Days of Prayer & Fasting: Zoom Prayer Time
DESCRIPTION:Join us for prayer on Zoom as part of our 21 Days of Prayer & Fasting.  Email Pastor Rod at rod@enewhope.org for the Zoom link.
URL:https://newhopemanoa.tv/event/prayer-on-zoom-2/
LOCATION:Zoom
END:VEVENT
BEGIN:VEVENT
DTSTART;TZID=Pacific/Honolulu:20260124T083000
DTEND;TZID=Pacific/Honolulu:20260124T100000
DTSTAMP:20260423T142621
CREATED:20251227T234158Z
LAST-MODIFIED:20251227T234403Z
UID:27144-1769243400-1769248800@newhopemanoa.tv
SUMMARY:Men's Discipleship Group
DESCRIPTION:Men\, we all need a community to grow closer to God! Join the men’s discipleship group on Saturday\, January 24\, 8:30-10:00 AM on Zoom as they study 2 Peter 3. Please contact Pastor Mike (email: ononelson@aol.com) for the link. \n \n“… [F]or while bodily training is of some value\, godliness is of value in every way\,\nas it holds promise for the present life and also for the life to come.”\n1 Timothy 4:8 ESV \n 
URL:https://newhopemanoa.tv/event/mens-discipleship-group-3/
LOCATION:Zoom
END:VEVENT
BEGIN:VEVENT
DTSTART;TZID=Pacific/Honolulu:20260124T110000
DTEND;TZID=Pacific/Honolulu:20260124T130000
DTSTAMP:20260423T142621
CREATED:20260110T050245Z
LAST-MODIFIED:20260112T021351Z
UID:27416-1769252400-1769259600@newhopemanoa.tv
SUMMARY:Kūpuna Luncheon
DESCRIPTION:Join Grill Bill and special guest Kahu Shon Kihewa at the Kūpuna Luncheon on Saturday\, January 24\, 11:00 AM to 1:00 PM. Please RSVP with Grill Bill: williambilloshima@gmail.com
URL:https://newhopemanoa.tv/event/kupuna-luncheon-3/
LOCATION:Bill’s House
END:VEVENT
BEGIN:VEVENT
DTSTART;TZID=Pacific/Honolulu:20260125T083000
DTEND;TZID=Pacific/Honolulu:20260125T090000
DTSTAMP:20260423T142621
CREATED:20260111T202357Z
LAST-MODIFIED:20260124T001430Z
UID:27436-1769329800-1769331600@newhopemanoa.tv
SUMMARY:21 Days of Prayer & Fasting: Pre-Service Prayer Time
DESCRIPTION:Gather with us for prayer before service as part of our 21 Days of Prayer & Fasting.  Join us at the Mid-Pacific Institute cafeteria on Sunday\, January 25\, at 8:30 AM. \nIf you need prayer\, please come up to the stage after service or contact Pastor Rod at rod@enewhope.org. Our pastors and prayer team are always available to pray with you.
URL:https://newhopemanoa.tv/event/pre-service-prayer-2/
LOCATION:Mid-Pacific Institute Cafeteria
END:VEVENT
BEGIN:VEVENT
DTSTART;TZID=Pacific/Honolulu:20260129T170000
DTEND;TZID=Pacific/Honolulu:20260129T200000
DTSTAMP:20260423T142621
CREATED:20260116T212111Z
LAST-MODIFIED:20260116T212411Z
UID:27579-1769706000-1769716800@newhopemanoa.tv
SUMMARY:Hearts in Motion Dance Classes
DESCRIPTION:Learn to dance at New Hope O’ahu’s Hearts in Motion Dance School! All ages and abilities are welcome! The spring session begins on January 29. Registration opens on January 17. \nClasses are held on Thursdays at New Hope O’ahu in Sand Island\, and each class is one hour long. Classes include hula\, hip-hop\, worship sign\, lyrical dance\, Samoan\, and Tahitian.  We hope you will join us! \nClasses: Thursdays\, January 29 to March 5\nHO’IKE: FRIDAY\, MARCH 6 \nVisit nhodance.org for more info and to register.
URL:https://newhopemanoa.tv/event/hearts-in-motion-dance-classes-2/
LOCATION:New Hope O’ahu\, 290 Sand Island Access Road\, Honolulu\, HI
END:VEVENT
BEGIN:VEVENT
DTSTART;TZID=Pacific/Honolulu:20260129T193000
DTEND;TZID=Pacific/Honolulu:20260129T200000
DTSTAMP:20260423T142621
CREATED:20260111T203127Z
LAST-MODIFIED:20260124T002111Z
UID:27445-1769715000-1769716800@newhopemanoa.tv
SUMMARY:21 Days of Prayer & Fasting: Zoom Prayer Time
DESCRIPTION:Join us for prayer on Zoom as part of our 21 Days of Prayer & Fasting.  Email Pastor Rod at rod@enewhope.org for any questions. \nCLICK HERE TO JOIN
URL:https://newhopemanoa.tv/event/prayer-on-zoom-3/
LOCATION:Zoom
END:VEVENT
BEGIN:VEVENT
DTSTART;TZID=Pacific/Honolulu:20260131T083000
DTEND;TZID=Pacific/Honolulu:20260131T100000
DTSTAMP:20260423T142621
CREATED:20251227T234323Z
LAST-MODIFIED:20251227T234323Z
UID:27147-1769848200-1769853600@newhopemanoa.tv
SUMMARY:Men's Discipleship Group
DESCRIPTION:Men\, we all need a community to grow closer to God! Join the men’s discipleship group on Saturday\, January 31\, 8:30-10:00 AM on Zoom as they study 2 Peter 3. Please contact Pastor Mike (email: ononelson@aol.com) for the link. \n \n“… [F]or while bodily training is of some value\, godliness is of value in every way\,\nas it holds promise for the present life and also for the life to come.”\n1 Timothy 4:8 ESV
URL:https://newhopemanoa.tv/event/mens-discipleship-group-4/
LOCATION:Zoom
END:VEVENT
BEGIN:VEVENT
DTSTART;TZID=Pacific/Honolulu:20260131T083000
DTEND;TZID=Pacific/Honolulu:20260131T103000
DTSTAMP:20260423T142621
CREATED:20260126T030927Z
LAST-MODIFIED:20260126T030927Z
UID:27703-1769848200-1769855400@newhopemanoa.tv
SUMMARY:New Hope Boxing Clinic
DESCRIPTION:Join the New Hope Boxing Clinic on Saturdays at 8:30 AM at Magic Island Beach Park. All levels welcome! \nPlease follow the New Hope Boxing Clinic Instagram page (@newhopeboxingclinic) for weather updates and more. Contact Claudia if you are able to attend. \n 
URL:https://newhopemanoa.tv/event/new-hope-boxing-clinic-32/
LOCATION:Magic Island Ala Moana
END:VEVENT
BEGIN:VEVENT
DTSTART;TZID=Pacific/Honolulu:20260204T180000
DTEND;TZID=Pacific/Honolulu:20260204T203000
DTSTAMP:20260423T142621
CREATED:20251227T231042Z
LAST-MODIFIED:20260105T045231Z
UID:27112-1770228000-1770237000@newhopemanoa.tv
SUMMARY:'Ohana Life Group
DESCRIPTION:Please join us at the Midweek ‘Ohana Life Group at the Shimabukuro home on February 4 at 6:00 PM. Potluck at 6:00 PM followed by Life Group 7:15-8:30 PM. Leaders\, volunteers\, and all ‘ohana are invited!  PLEASE RSVP with Pastor Rod: call or text (808) 216-5493.
URL:https://newhopemanoa.tv/event/ohana-life-group-4/
LOCATION:Shimabukuro’s House
END:VEVENT
BEGIN:VEVENT
DTSTART;TZID=Pacific/Honolulu:20260207T083000
DTEND;TZID=Pacific/Honolulu:20260207T103000
DTSTAMP:20260423T142621
CREATED:20260105T044917Z
LAST-MODIFIED:20260120T192230Z
UID:27292-1770453000-1770460200@newhopemanoa.tv
SUMMARY:New Hope Boxing Clinic
DESCRIPTION:Join the New Hope Boxing Clinic on Saturdays at 8:30 AM at Magic Island Beach Park. All levels welcome! \nPlease follow the New Hope Boxing Clinic Instagram page (@newhopeboxingclinic) for weather updates and more. Contact Claudia if you are able to attend. \n 
URL:https://newhopemanoa.tv/event/new-hope-boxing-clinic-30/
LOCATION:Magic Island Ala Moana
END:VEVENT
BEGIN:VEVENT
DTSTART;TZID=Pacific/Honolulu:20260221T090000
DTEND;TZID=Pacific/Honolulu:20260221T103000
DTSTAMP:20260423T142621
CREATED:20251227T220151Z
LAST-MODIFIED:20251227T220347Z
UID:27080-1771664400-1771669800@newhopemanoa.tv
SUMMARY:Women's Bible Study
DESCRIPTION:Join Wendy and Raquel as they lead us through the study\, “Ten Women of the Bible: One by One They Changed the World” by Max Lucado. If you are able\, please purchase the study guide before our gathering.  Come for a time of worship\, prayer\, studying the Word of God\, and fellowship. Please contact Raquel (raquel@hawaii.rr.com) for more information. \nHappening once per month. Light refreshments will be served. \n“They were continually devoting themselves to the apostles’ teaching and to fellowship\,\nto the breaking of bread and to prayer.”\nActs 2:42 NASB \n 
URL:https://newhopemanoa.tv/event/womens-bible-study-4/
LOCATION:Raquel’s House
END:VEVENT
BEGIN:VEVENT
DTSTART;TZID=Pacific/Honolulu:20260221T090000
DTEND;TZID=Pacific/Honolulu:20260221T130000
DTSTAMP:20260423T142621
CREATED:20251227T231842Z
LAST-MODIFIED:20251227T231854Z
UID:27126-1771664400-1771678800@newhopemanoa.tv
SUMMARY:Lo'i Kalo Community Outreach
DESCRIPTION:Hoʻōla Hou iā Kalauao \nJoin us for a day filled with fun and purpose!  Come help at a loʻi kalo (taro farm) on the third Saturday of every month!  All are welcome! \n Saturday\, February 21\n 9:00 AM – 1:00 PM\n ʻAiea near Sumida Farm \nWhat to Bring: \n\nClothing that is able to get dirty\nBoots or covered shoes recommended for those doing work outside of the loʻi. High zip up tabis\, high socks\, or barefoot + slippers for after for those going into the loʻi\nWater bottle\, snacks (We’ll have a water cooler.)\nHat\nSunblock (but don’t put on your legs)\nChange of clothes and towel if you want to change before leaving\nA dish or food item to share for lunch (If can can\, no can no worry.)\nMess kit (reusable plate/bowl/utensils for lunch)\n\nComplete Waiver Release Form (once per year) on their website Hoʻōla Hou iā Kalauao \nRSVP with Malia \n 
URL:https://newhopemanoa.tv/event/27126/
LOCATION:Lo’i Kalo in ‘Aiea
END:VEVENT
BEGIN:VEVENT
DTSTART;TZID=Pacific/Honolulu:20260228T180000
DTEND;TZID=Pacific/Honolulu:20260228T210000
DTSTAMP:20260423T142621
CREATED:20260205T005633Z
LAST-MODIFIED:20260223T070800Z
UID:27808-1772301600-1772312400@newhopemanoa.tv
SUMMARY:Y&YA Chinese New Year Celebration
DESCRIPTION:A time for youth and young adults to celebrate the Chinese New Year and fellowship with each other in community. Brennan will be making won ton and shrimp chips! It will be 6:00 PM at the Shimabukuro Hale on Saturday\, February 28th! RSVP with Malia (808) 375-2064.
URL:https://newhopemanoa.tv/event/y-ya-chinese-new-year-celebration/
LOCATION:Shimabukuro’s House
END:VEVENT
END:VCALENDAR