BEGIN:VCALENDAR
VERSION:2.0
PRODID:-//New Hope Manoa - ECPv6.13.2.1//NONSGML v1.0//EN
CALSCALE:GREGORIAN
METHOD:PUBLISH
X-ORIGINAL-URL:https://newhopemanoa.tv
X-WR-CALDESC:Events for New Hope Manoa
REFRESH-INTERVAL;VALUE=DURATION:PT1H
X-Robots-Tag:noindex
X-PUBLISHED-TTL:PT1H
BEGIN:VTIMEZONE
TZID:Pacific/Honolulu
BEGIN:STANDARD
TZOFFSETFROM:-1000
TZOFFSETTO:-1000
TZNAME:HST
DTSTART:20260101T000000
END:STANDARD
END:VTIMEZONE
BEGIN:VEVENT
DTSTART;TZID=Pacific/Honolulu:20260701T180000
DTEND;TZID=Pacific/Honolulu:20260701T203000
DTSTAMP:20260423T113556
CREATED:20260112T022729Z
LAST-MODIFIED:20260221T003800Z
UID:27459-1782928800-1782937800@newhopemanoa.tv
SUMMARY:‘Ohana Life Group
DESCRIPTION:Please join us at the Midweek ‘Ohana Life Group at the Shimabukuro home on July 1 at 6:00 PM. Potluck at 6:00 PM followed by Life Group 7:15-8:30 PM. Leaders\, volunteers\, and all ‘ohana are invited! Please call or text Pastor Rod at (808) 216-5493 to RSVP.
URL:https://newhopemanoa.tv/event/ohana-life-group-8/
LOCATION:Shimabukuro’s House
END:VEVENT
BEGIN:VEVENT
DTSTART;TZID=Pacific/Honolulu:20260725T090000
DTEND;TZID=Pacific/Honolulu:20260725T103000
DTSTAMP:20260423T113556
CREATED:20251227T221616Z
LAST-MODIFIED:20251227T221626Z
UID:27097-1784970000-1784975400@newhopemanoa.tv
SUMMARY:Women's Bible Study
DESCRIPTION:Join Wendy and Raquel as they lead us through the study\, “Ten Women of the Bible: One by One They Changed the World” by Max Lucado. If you are able\, please purchase the study guide before our gathering.  Come for a time of worship\, prayer\, studying the Word of God\, and fellowship. Please contact Raquel (raquel@hawaii.rr.com) for more information. \nHappening once per month. Light refreshments will be served. \n“They were continually devoting themselves to the apostles’ teaching and to fellowship\,\nto the breaking of bread and to prayer.”\nActs 2:42 NASB
URL:https://newhopemanoa.tv/event/womens-bible-study-18/
LOCATION:Raquel’s House
END:VEVENT
BEGIN:VEVENT
DTSTART;TZID=Pacific/Honolulu:20260805T180000
DTEND;TZID=Pacific/Honolulu:20260805T203000
DTSTAMP:20260423T113556
CREATED:20260112T022812Z
LAST-MODIFIED:20260221T003825Z
UID:27461-1785952800-1785961800@newhopemanoa.tv
SUMMARY:‘Ohana Life Group
DESCRIPTION:Please join us at the Midweek ‘Ohana Life Group at the Shimabukuro home on August 5 at 6:00 PM. Potluck at 6:00 PM followed by Life Group 7:15-8:30 PM. Leaders\, volunteers\, and all ‘ohana are invited! Please call or text Pastor Rod at (808) 216-5493 to RSVP.
URL:https://newhopemanoa.tv/event/ohana-life-group-9/
LOCATION:Shimabukuro’s House
END:VEVENT
BEGIN:VEVENT
DTSTART;TZID=Pacific/Honolulu:20260822T090000
DTEND;TZID=Pacific/Honolulu:20260822T103000
DTSTAMP:20260423T113556
CREATED:20260105T045831Z
LAST-MODIFIED:20260105T045928Z
UID:27301-1787389200-1787394600@newhopemanoa.tv
SUMMARY:Women’s Bible Study
DESCRIPTION:Join Wendy and Raquel as they lead us through the study\, “Ten Women of the Bible: One by One They Changed the World” by Max Lucado. If you are able\, please purchase the study guide before our gathering.  Come for a time of worship\, prayer\, studying the Word of God\, and fellowship. Please contact Raquel (raquel@hawaii.rr.com) for more information. \nHappening once per month. Light refreshments will be served. \n“They were continually devoting themselves to the apostles’ teaching and to fellowship\,\nto the breaking of bread and to prayer.”\nActs 2:42 NASB \n 
URL:https://newhopemanoa.tv/event/womens-bible-study-20/
LOCATION:Raquel’s House
END:VEVENT
BEGIN:VEVENT
DTSTART;TZID=Pacific/Honolulu:20260902T180000
DTEND;TZID=Pacific/Honolulu:20260902T203000
DTSTAMP:20260423T113556
CREATED:20260112T022900Z
LAST-MODIFIED:20260221T003729Z
UID:27464-1788372000-1788381000@newhopemanoa.tv
SUMMARY:‘Ohana Life Group
DESCRIPTION:Please join us at the Midweek ‘Ohana Life Group at the Shimabukuro home on September 2 at 6:00 PM. Potluck at 6:00 PM followed by Life Group 7:15-8:30 PM. Leaders\, volunteers\, and all ‘ohana are invited! Please call or text Pastor Rod at (808) 216-5493 to RSVP.
URL:https://newhopemanoa.tv/event/ohana-life-group-10/
LOCATION:Shimabukuro’s House
END:VEVENT
BEGIN:VEVENT
DTSTART;TZID=Pacific/Honolulu:20260919T090000
DTEND;TZID=Pacific/Honolulu:20260919T103000
DTSTAMP:20260423T113556
CREATED:20260105T050102Z
LAST-MODIFIED:20260105T050102Z
UID:27304-1789808400-1789813800@newhopemanoa.tv
SUMMARY:Women’s Bible Study
DESCRIPTION:Join Wendy and Raquel as they lead us through a new study\, “Ten Women of the Bible: One by One They Changed the World” by Max Lucado. If you are able\, please purchase the study guide before our gathering.  Come for a time of worship\, prayer\, studying the Word of God\, and fellowship. Please contact Raquel (raquel@hawaii.rr.com) for more information. \nHappening once per month. Light refreshments will be served. \n“They were continually devoting themselves to the apostles’ teaching and to fellowship\,\nto the breaking of bread and to prayer.”\nActs 2:42 NASB
URL:https://newhopemanoa.tv/event/womens-bible-study-21/
LOCATION:Raquel’s House
END:VEVENT
BEGIN:VEVENT
DTSTART;TZID=Pacific/Honolulu:20261003T090000
DTEND;TZID=Pacific/Honolulu:20261003T103000
DTSTAMP:20260423T113556
CREATED:20260105T050140Z
LAST-MODIFIED:20260105T050140Z
UID:27306-1791018000-1791023400@newhopemanoa.tv
SUMMARY:Women’s Bible Study
DESCRIPTION:Join Wendy and Raquel as they lead us through a new study\, “Ten Women of the Bible: One by One They Changed the World” by Max Lucado. If you are able\, please purchase the study guide before our gathering.  Come for a time of worship\, prayer\, studying the Word of God\, and fellowship. Please contact Raquel (raquel@hawaii.rr.com) for more information. \nHappening once per month. Light refreshments will be served. \n“They were continually devoting themselves to the apostles’ teaching and to fellowship\,\nto the breaking of bread and to prayer.”\nActs 2:42 NASB
URL:https://newhopemanoa.tv/event/womens-bible-study-22/
LOCATION:Raquel’s House
END:VEVENT
BEGIN:VEVENT
DTSTART;TZID=Pacific/Honolulu:20261007T180000
DTEND;TZID=Pacific/Honolulu:20261007T203000
DTSTAMP:20260423T113556
CREATED:20260112T022938Z
LAST-MODIFIED:20260221T003859Z
UID:27466-1791396000-1791405000@newhopemanoa.tv
SUMMARY:‘Ohana Life Group
DESCRIPTION:Please join us at the Midweek ‘Ohana Life Group at the Shimabukuro home on October 7 at 6:00 PM. Potluck at 6:00 PM followed by Life Group 7:15-8:30 PM. Leaders\, volunteers\, and all ‘ohana are invited! Please call or text Pastor Rod at (808) 216-5493 to RSVP.
URL:https://newhopemanoa.tv/event/ohana-life-group-11/
LOCATION:Shimabukuro’s House
END:VEVENT
BEGIN:VEVENT
DTSTART;TZID=Pacific/Honolulu:20261104T180000
DTEND;TZID=Pacific/Honolulu:20261104T203000
DTSTAMP:20260423T113556
CREATED:20260112T023010Z
LAST-MODIFIED:20260221T003929Z
UID:27468-1793815200-1793824200@newhopemanoa.tv
SUMMARY:‘Ohana Life Group
DESCRIPTION:Please join us at the Midweek ‘Ohana Life Group at the Shimabukuro home on November 4 at 6:00 PM. Potluck at 6:00 PM followed by Life Group 7:15-8:30 PM. Leaders\, volunteers\, and all ‘ohana are invited! Please call or text Pastor Rod at (808) 216-5493 to RSVP.
URL:https://newhopemanoa.tv/event/ohana-life-group-12/
LOCATION:Shimabukuro’s House
END:VEVENT
BEGIN:VEVENT
DTSTART;TZID=Pacific/Honolulu:20261202T180000
DTEND;TZID=Pacific/Honolulu:20261202T203000
DTSTAMP:20260423T113556
CREATED:20260112T023041Z
LAST-MODIFIED:20260221T003955Z
UID:27470-1796234400-1796243400@newhopemanoa.tv
SUMMARY:‘Ohana Life Group
DESCRIPTION:Please join us at the Midweek ‘Ohana Life Group at the Shimabukuro home on December 2 at 6:00 PM. Potluck at 6:00 PM followed by Life Group 7:15-8:30 PM. Leaders\, volunteers\, and all ‘ohana are invited! Please call or text Pastor Rod at (808) 216-5493 to RSVP.
URL:https://newhopemanoa.tv/event/ohana-life-group-13/
LOCATION:Shimabukuro’s House
END:VEVENT
BEGIN:VEVENT
DTSTART;TZID=Pacific/Honolulu:20261226T090000
DTEND;TZID=Pacific/Honolulu:20261226T103000
DTSTAMP:20260423T113556
CREATED:20260105T050246Z
LAST-MODIFIED:20260105T050246Z
UID:27308-1798275600-1798281000@newhopemanoa.tv
SUMMARY:Women’s Bible Study
DESCRIPTION:Come for a time of worship\, prayer\, studying the Word of God\, and fellowship. Please contact Raquel (raquel@hawaii.rr.com) for more information. \nHappening once per month. Light refreshments will be served. \n“They were continually devoting themselves to the apostles’ teaching and to fellowship\,\nto the breaking of bread and to prayer.”\nActs 2:42 NASB
URL:https://newhopemanoa.tv/event/womens-bible-study-23/
LOCATION:Raquel’s House
END:VEVENT
END:VCALENDAR