BEGIN:VCALENDAR
VERSION:2.0
PRODID:-//New Hope Manoa - ECPv6.13.2.1//NONSGML v1.0//EN
CALSCALE:GREGORIAN
METHOD:PUBLISH
X-WR-CALNAME:New Hope Manoa
X-ORIGINAL-URL:https://newhopemanoa.tv
X-WR-CALDESC:Events for New Hope Manoa
REFRESH-INTERVAL;VALUE=DURATION:PT1H
X-Robots-Tag:noindex
X-PUBLISHED-TTL:PT1H
BEGIN:VTIMEZONE
TZID:UTC
BEGIN:STANDARD
TZOFFSETFROM:+0000
TZOFFSETTO:+0000
TZNAME:UTC
DTSTART:20240101T000000
END:STANDARD
END:VTIMEZONE
BEGIN:VEVENT
DTSTART;TZID=UTC:20240724T190000
DTEND;TZID=UTC:20240724T203000
DTSTAMP:20260424T032201
CREATED:20240724T164538Z
LAST-MODIFIED:20250803T032235Z
UID:17401-1721847600-1721853000@newhopemanoa.tv
SUMMARY:NH Mānoa at NHO Midweek
DESCRIPTION:Join Pastor Rod and the NHM worship team as they lead worship at Midweek! \nWednesday\, July 24\nNew Hope O’ahu\n7:00 PM
URL:https://newhopemanoa.tv/event/nh-manoa-at-nho-midweek/
LOCATION:New Hope O’ahu\, 290 Sand Island Access Road\, Honolulu\, HI
END:VEVENT
END:VCALENDAR