BEGIN:VCALENDAR
VERSION:2.0
PRODID:-//New Hope Manoa - ECPv6.13.2.1//NONSGML v1.0//EN
CALSCALE:GREGORIAN
METHOD:PUBLISH
X-WR-CALNAME:New Hope Manoa
X-ORIGINAL-URL:https://newhopemanoa.tv
X-WR-CALDESC:Events for New Hope Manoa
REFRESH-INTERVAL;VALUE=DURATION:PT1H
X-Robots-Tag:noindex
X-PUBLISHED-TTL:PT1H
BEGIN:VTIMEZONE
TZID:UTC
BEGIN:STANDARD
TZOFFSETFROM:+0000
TZOFFSETTO:+0000
TZNAME:UTC
DTSTART:20240101T000000
END:STANDARD
END:VTIMEZONE
BEGIN:VTIMEZONE
TZID:Pacific/Honolulu
BEGIN:STANDARD
TZOFFSETFROM:-1000
TZOFFSETTO:-1000
TZNAME:HST
DTSTART:20240101T000000
END:STANDARD
END:VTIMEZONE
BEGIN:VEVENT
DTSTART;TZID=UTC:20240830T190000
DTEND;TZID=UTC:20240830T213000
DTSTAMP:20260425T014432
CREATED:20240717T120023Z
LAST-MODIFIED:20241003T081441Z
UID:17216-1725044400-1725053400@newhopemanoa.tv
SUMMARY:Healing Hearts
DESCRIPTION:“Years ago\, Beckie and I met and counseled with Pastor Rob Gross. We love his heart\, ministry\, church\, and invitation to Healing Hearts Ministry!” – Pastor Rod \n9 Sessions\nFridays\, 7:00-9:30 PM\nAugust 30 – October 25 \nView their website for more info and to register. \n 
URL:https://newhopemanoa.tv/event/healing-hearts/
LOCATION:Mountain View Community Church\, 99-1324 Koaha Place\, Aiea\, HI\, 96701
ATTACH;FMTTYPE=image/png:https://newhopemanoa.tv/wp-content/uploads/2024/07/Screenshot-2024-07-06-at-7.20.47 PM.png
END:VEVENT
BEGIN:VEVENT
DTSTART;TZID=Pacific/Honolulu:20240818T103000
DTEND;TZID=Pacific/Honolulu:20241103T110000
DTSTAMP:20260425T014432
CREATED:20240812T110334Z
LAST-MODIFIED:20241021T124321Z
UID:17804-1723977000-1730631600@newhopemanoa.tv
SUMMARY:Clothing Collection for Nepal
DESCRIPTION:Please consider donating clothes to the Nepal Mission. We need all-weather clothes (including hats and caps) in sizes for children\, teens\, women\, and smaller men’s sizes (through size Large). We will also take donations of practical lightweight accessories. Please hand your donation to one of the Nepal Mission members by November 3.
URL:https://newhopemanoa.tv/event/clothing-drive-for-nepal/
LOCATION:HI
ATTACH;FMTTYPE=image/png:https://newhopemanoa.tv/wp-content/uploads/2024/08/Screen-Shot-2024-08-14-at-8.42.27-PM.png
END:VEVENT
BEGIN:VEVENT
DTSTART;TZID=UTC:20240810T090000
DTEND;TZID=UTC:20240810T120000
DTSTAMP:20260425T014432
CREATED:20240717T120954Z
LAST-MODIFIED:20240718T050721Z
UID:17224-1723280400-1723291200@newhopemanoa.tv
SUMMARY:The Holy Spirit Through the Bible\, Part 2 with Dr. Gary Manning Jr.
DESCRIPTION:This seminar will be on Zoom. To register\, go to biblehawaii.org\, click on “COURSES\,” proceed to online registration\, and look for their classes to sign up.
URL:https://newhopemanoa.tv/event/the-holy-spirit-through-the-bible-part-2-with-dr-gary-manning-jr/
LOCATION:Zoom
ATTACH;FMTTYPE=image/png:https://newhopemanoa.tv/wp-content/uploads/2024/07/Screenshot-2024-07-12-at-6.25.17 PM.png
END:VEVENT
BEGIN:VEVENT
DTSTART;TZID=UTC:20240803T093000
DTEND;TZID=UTC:20240803T113000
DTSTAMP:20260425T014432
CREATED:20240717T113105Z
LAST-MODIFIED:20240718T050043Z
UID:17190-1722677400-1722684600@newhopemanoa.tv
SUMMARY:Women’s Brunch
DESCRIPTION:Come and join us for brunch and fellowship!  This is a free event.  Please RSVP with Tess Tomita.
URL:https://newhopemanoa.tv/event/womens-brunch/
LOCATION:Shimabukuro’s House
ATTACH;FMTTYPE=image/png:https://newhopemanoa.tv/wp-content/uploads/2024/07/Screen-Shot-2024-07-16-at-11.18.34-AM.png
END:VEVENT
BEGIN:VEVENT
DTSTART;TZID=UTC:20240727T083000
DTEND;TZID=UTC:20240727T113000
DTSTAMP:20260425T014432
CREATED:20240717T114111Z
LAST-MODIFIED:20240718T050635Z
UID:17201-1722069000-1722079800@newhopemanoa.tv
SUMMARY:Jewish Roots of Jesus the Bridegroom Bible Workshop with Dr. Randy Furushima
DESCRIPTION:When you see Jesus on the cross\, what do you see? An execution\, a punishment\, a martyrdom\, or a\nsacrifice? The apostle Paul saw all of this\, but also something more – he saw the love of a bridegroom\nfor his bride. You will see scripture and tradition through ancient Jewish eyes – the same perspective\nthrough which Paul saw the passion and death of Christ as the fulfillment of God’s eternal plan to wed\nhimself to humanity in an everlasting marital covenant. Jesus was more than just a teacher or a\nprophet. He was the bridegroom Messiah\, whose mission was to forgive the sinful bride of God and\nunite himself to her in an everlasting covenant of love. If you want to understand better who Jesus\nwas and why he was crucified\, then come along on this journey of discovery. \nTo register\, go to biblehawaii.org\, click on “COURSES\,” proceed to online registration\, and look for their classes to sign up.
URL:https://newhopemanoa.tv/event/jewish-roots-of-jesus-the-bridegroom-bible-workshop-with-dr-randy-furushima/
LOCATION:St. Mark’s Episcopal Church\, 539 Kapahulu Avenue\, Honolulu\, HI\, 96815
ATTACH;FMTTYPE=image/png:https://newhopemanoa.tv/wp-content/uploads/2024/07/Screen-Shot-2024-07-16-at-5.58.07-PM.png
END:VEVENT
BEGIN:VEVENT
DTSTART;TZID=UTC:20240724T190000
DTEND;TZID=UTC:20240724T203000
DTSTAMP:20260425T014432
CREATED:20240724T164538Z
LAST-MODIFIED:20250803T032235Z
UID:17401-1721847600-1721853000@newhopemanoa.tv
SUMMARY:NH Mānoa at NHO Midweek
DESCRIPTION:Join Pastor Rod and the NHM worship team as they lead worship at Midweek! \nWednesday\, July 24\nNew Hope O’ahu\n7:00 PM
URL:https://newhopemanoa.tv/event/nh-manoa-at-nho-midweek/
LOCATION:New Hope O’ahu\, 290 Sand Island Access Road\, Honolulu\, HI
END:VEVENT
END:VCALENDAR