BEGIN:VCALENDAR
VERSION:2.0
PRODID:-//New Hope Manoa - ECPv6.13.2.1//NONSGML v1.0//EN
CALSCALE:GREGORIAN
METHOD:PUBLISH
X-WR-CALNAME:New Hope Manoa
X-ORIGINAL-URL:https://newhopemanoa.tv
X-WR-CALDESC:Events for New Hope Manoa
REFRESH-INTERVAL;VALUE=DURATION:PT1H
X-Robots-Tag:noindex
X-PUBLISHED-TTL:PT1H
BEGIN:VTIMEZONE
TZID:Pacific/Honolulu
BEGIN:STANDARD
TZOFFSETFROM:-1000
TZOFFSETTO:-1000
TZNAME:HST
DTSTART:20240101T000000
END:STANDARD
END:VTIMEZONE
BEGIN:VTIMEZONE
TZID:UTC
BEGIN:STANDARD
TZOFFSETFROM:+0000
TZOFFSETTO:+0000
TZNAME:UTC
DTSTART:20240101T000000
END:STANDARD
END:VTIMEZONE
BEGIN:VEVENT
DTSTART;TZID=Pacific/Honolulu:20250219T190000
DTEND;TZID=Pacific/Honolulu:20250219T200000
DTSTAMP:20260424T034248
CREATED:20250202T203123Z
LAST-MODIFIED:20250213T051148Z
UID:20794-1739991600-1739995200@newhopemanoa.tv
SUMMARY:Kingdom Membership
DESCRIPTION:What does it mean to be a member of God’s family and Kingdom? What does it mean to be a member of NHM? Join us for the NHM Membership Study.  Contact Pastor Rod at rod@enewhope.org for the Zoom link.
URL:https://newhopemanoa.tv/event/kingdom-membership/
LOCATION:Zoom
ATTACH;FMTTYPE=image/png:https://newhopemanoa.tv/wp-content/uploads/2025/02/NHM-Events-4.png
END:VEVENT
BEGIN:VEVENT
DTSTART;TZID=Pacific/Honolulu:20250215T090000
DTEND;TZID=Pacific/Honolulu:20250215T100000
DTSTAMP:20260424T034248
CREATED:20241228T184156Z
LAST-MODIFIED:20250128T000228Z
UID:20334-1739610000-1739613600@newhopemanoa.tv
SUMMARY:Women’s Bible Study
DESCRIPTION:Join Wendy and Raquel as they lead a Women’s Bible Study in the Book of Acts on February 15\, 9:00-10:00 AM at Raquel’s house. Come and learn more about our Lord Jesus and become disciples. Happening once per month. Subsequent dates and times to be announced. Light refreshments will be served.
URL:https://newhopemanoa.tv/event/womens-bible-study-2/
LOCATION:Raquel’s House
ATTACH;FMTTYPE=image/png:https://newhopemanoa.tv/wp-content/uploads/2024/12/NHM-Events-3.png
END:VEVENT
BEGIN:VEVENT
DTSTART;TZID=Pacific/Honolulu:20250212T190000
DTEND;TZID=Pacific/Honolulu:20250212T200000
DTSTAMP:20260424T034248
CREATED:20250202T202807Z
LAST-MODIFIED:20250213T051104Z
UID:20790-1739386800-1739390400@newhopemanoa.tv
SUMMARY:Kingdom Membership
DESCRIPTION:What does it mean to be a member of God’s family and Kingdom? What does it mean to be a member of NHM? Join us for the NHM Membership Study.  Contact Pastor Rod for Zoom link.
URL:https://newhopemanoa.tv/event/kingdom-membership-nhm-membership-study/
LOCATION:Zoom
ATTACH;FMTTYPE=image/png:https://newhopemanoa.tv/wp-content/uploads/2025/02/NHM-Events-4.png
END:VEVENT
BEGIN:VEVENT
DTSTART;TZID=Pacific/Honolulu:20250210T173000
DTEND;TZID=Pacific/Honolulu:20250210T193000
DTSTAMP:20260424T034248
CREATED:20250116T082021Z
LAST-MODIFIED:20250116T083616Z
UID:20600-1739208600-1739215800@newhopemanoa.tv
SUMMARY:New Hope Boxing Clinic
DESCRIPTION:All ages and levels are welcome to the New Hope Boxing Clinic on Mondays (except holidays) 5:30-7:30 PM at Magic Island Ala Moana. Contact Claudia for more information. IG: newhopeboxingclinic
URL:https://newhopemanoa.tv/event/new-hope-boxing-clinic-6/
LOCATION:Magic Island Ala Moana
ATTACH;FMTTYPE=image/jpeg:https://newhopemanoa.tv/wp-content/uploads/2025/01/NHM-Events.jpg
END:VEVENT
BEGIN:VEVENT
DTSTART;TZID=Pacific/Honolulu:20250203T173000
DTEND;TZID=Pacific/Honolulu:20250203T193000
DTSTAMP:20260424T034248
CREATED:20250116T081348Z
LAST-MODIFIED:20250116T083554Z
UID:20594-1738603800-1738611000@newhopemanoa.tv
SUMMARY:New Hope Boxing Clinic
DESCRIPTION:All ages and levels are welcome to the New Hope Boxing Clinic on Mondays (except holidays) 5:30-7:30 PM at Magic Island Ala Moana. Contact Claudia for more information. \nIG: newhopeboxingclinic
URL:https://newhopemanoa.tv/event/new-hope-boxing-clinic-5/
LOCATION:Magic Island Ala Moana
ATTACH;FMTTYPE=image/jpeg:https://newhopemanoa.tv/wp-content/uploads/2025/01/NHM-Events.jpg
END:VEVENT
BEGIN:VEVENT
DTSTART;TZID=Pacific/Honolulu:20250127T173000
DTEND;TZID=Pacific/Honolulu:20250127T193000
DTSTAMP:20260424T034248
CREATED:20250109T083551Z
LAST-MODIFIED:20250116T083450Z
UID:20536-1737999000-1738006200@newhopemanoa.tv
SUMMARY:New Hope Boxing Clinic
DESCRIPTION:All ages and levels are welcome to the New Hope Boxing Clinic on Mondays (except holidays) 5:30-7:30 PM at Magic Island Ala Moana. Contact Claudia for more information. IG: newhopeboxingclinic
URL:https://newhopemanoa.tv/event/new-hope-boxing-clinic-4/
LOCATION:Magic Island Ala Moana
ATTACH;FMTTYPE=image/jpeg:https://newhopemanoa.tv/wp-content/uploads/2025/01/NHM-Events.jpg
END:VEVENT
BEGIN:VEVENT
DTSTART;TZID=Pacific/Honolulu:20250125T160000
DTEND;TZID=Pacific/Honolulu:20250125T200000
DTSTAMP:20260424T034248
CREATED:20241224T170326Z
LAST-MODIFIED:20241224T170326Z
UID:20279-1737820800-1737835200@newhopemanoa.tv
SUMMARY:Men’s Grill Out
DESCRIPTION:Men’s Grill Out on Saturday\, January 25\, 4:00-8:00 PM at the Shimabukuro’s home.  Come for some food\, fun\, and fellowship!
URL:https://newhopemanoa.tv/event/mens-grill-out/
LOCATION:Shimabukuro’s House
ATTACH;FMTTYPE=image/png:https://newhopemanoa.tv/wp-content/uploads/2024/12/MensGrillout.png
END:VEVENT
BEGIN:VEVENT
DTSTART;TZID=Pacific/Honolulu:20250125T090000
DTEND;TZID=Pacific/Honolulu:20250125T100000
DTSTAMP:20260424T034248
CREATED:20241224T170031Z
LAST-MODIFIED:20250125T175136Z
UID:20274-1737795600-1737799200@newhopemanoa.tv
SUMMARY:Women’s Bible Study
DESCRIPTION:Raquel and Wendy will be leading a Women’s Bible Study in the Book of Acts beginning January 25\, 9:00-10:00 AM at Raquel’s house. Come and learn more about our Lord Jesus and become disciples. Happening once per month. Subsequent dates and times to be announced. Light refreshments will be served.
URL:https://newhopemanoa.tv/event/womens-bible-study/
LOCATION:Raquel’s House
ATTACH;FMTTYPE=image/png:https://newhopemanoa.tv/wp-content/uploads/2024/12/NHM-Events.png
END:VEVENT
BEGIN:VEVENT
DTSTART;TZID=Pacific/Honolulu:20250113T173000
DTEND;TZID=Pacific/Honolulu:20250113T193000
DTSTAMP:20260424T034248
CREATED:20250109T081245Z
LAST-MODIFIED:20250109T084051Z
UID:20532-1736789400-1736796600@newhopemanoa.tv
SUMMARY:New Hope Boxing Clinic
DESCRIPTION:All ages and levels are welcome to the New Hope Boxing Clinic on Mondays (except holidays) 5:30-7:30 PM at Magic Island Ala Moana. Contact Claudia for more information. \nIG: newhopeboxingclinic
URL:https://newhopemanoa.tv/event/new-hope-boxing-clinic-3/
LOCATION:Magic Island Ala Moana
END:VEVENT
BEGIN:VEVENT
DTSTART;TZID=Pacific/Honolulu:20250111T110000
DTEND;TZID=Pacific/Honolulu:20250111T130000
DTSTAMP:20260424T034248
CREATED:20241228T104325Z
LAST-MODIFIED:20241230T041934Z
UID:20318-1736593200-1736600400@newhopemanoa.tv
SUMMARY:Kūpuna Lunch
DESCRIPTION:Mark your calendars for Kūpuna Lunch on January 11. Guest speaker Pastor Donovan from NHO will be sharing an encouraging word!
URL:https://newhopemanoa.tv/event/kupuna-luncheon-2/
LOCATION:Bill’s House
ATTACH;FMTTYPE=image/png:https://newhopemanoa.tv/wp-content/uploads/2024/12/KupunaLunch-1.png
END:VEVENT
BEGIN:VEVENT
DTSTART;TZID=Pacific/Honolulu:20241229T093000
DTEND;TZID=Pacific/Honolulu:20241229T113000
DTSTAMP:20260424T034248
CREATED:20241228T104908Z
LAST-MODIFIED:20241230T041915Z
UID:20322-1735464600-1735471800@newhopemanoa.tv
SUMMARY:Manapua Sunday
DESCRIPTION:New Hope Aloha Pauʻole will be joining us for a Jesus Celebration to praise in the new year! Pastors Dave\, Mike\, and Rod will be sharing a word to set the tone for 2025! Join us for manapua and fellowship after service!
URL:https://newhopemanoa.tv/event/new-years-blended-service/
LOCATION:Mid-Pacific Institute Bakken Auditorium
ATTACH;FMTTYPE=image/png:https://newhopemanoa.tv/wp-content/uploads/2024/12/Screenshot-2024-12-27-at-11.51.22 AM.png
END:VEVENT
BEGIN:VEVENT
DTSTART;TZID=Pacific/Honolulu:20241224T200000
DTEND;TZID=Pacific/Honolulu:20241224T203000
DTSTAMP:20260424T034248
CREATED:20241205T081916Z
LAST-MODIFIED:20241223T033904Z
UID:20045-1735070400-1735072200@newhopemanoa.tv
SUMMARY:Christmas Devotional and Communion
DESCRIPTION:Join Pastor Rod live on Facebook and YouTube for a Christmas devotional and take communion together. \nDecember 24 – Christmas Eve\n8:00-8:30 PM
URL:https://newhopemanoa.tv/event/christmas-devotional-and-communion/
ATTACH;FMTTYPE=image/png:https://newhopemanoa.tv/wp-content/uploads/2024/11/Screenshot-2024-11-30-at-3.01.34 PM.png
END:VEVENT
BEGIN:VEVENT
DTSTART;TZID=Pacific/Honolulu:20241222T093000
DTEND;TZID=Pacific/Honolulu:20241222T113000
DTSTAMP:20260424T034248
CREATED:20241207T182319Z
LAST-MODIFIED:20241223T033835Z
UID:20114-1734859800-1734867000@newhopemanoa.tv
SUMMARY:NHM Christmas Service
DESCRIPTION:Our Christmas service will be on Sunday\, December 22 at 9:30 AM in Bakken Auditorium.  Invite your friends and family to share in the celebration of our Savior’s birth!  Please join us for lunch and fellowship after service.
URL:https://newhopemanoa.tv/event/nhm-christmas-service/
LOCATION:Mid-Pacific Institute Bakken Auditorium
ATTACH;FMTTYPE=image/png:https://newhopemanoa.tv/wp-content/uploads/2024/12/Screen-Shot-2024-12-06-at-10.17.08-PM-1.png
END:VEVENT
BEGIN:VEVENT
DTSTART;TZID=UTC:20241218T190000
DTEND;TZID=UTC:20241218T193000
DTSTAMP:20260424T034248
CREATED:20241128T171501Z
LAST-MODIFIED:20241128T172159Z
UID:20000-1734548400-1734550200@newhopemanoa.tv
SUMMARY:Advent Devotionals
DESCRIPTION:Join Pastor Rod on YouTube and Facebook Live for three Wednesday evenings to reset our hearts and reflect on the Advent of Christ. \nDecember 4\, 11\, and 18\n7:00-7:30 PM
URL:https://newhopemanoa.tv/event/advent-devotionals-3/
ATTACH;FMTTYPE=image/png:https://newhopemanoa.tv/wp-content/uploads/2024/11/Screenshot-2024-11-23-at-4.49.02 PM.png
END:VEVENT
BEGIN:VEVENT
DTSTART;TZID=UTC:20241211T190000
DTEND;TZID=UTC:20241211T193000
DTSTAMP:20260424T034248
CREATED:20241128T171359Z
LAST-MODIFIED:20241128T172124Z
UID:19998-1733943600-1733945400@newhopemanoa.tv
SUMMARY:Advent Devotionals
DESCRIPTION:Join Pastor Rod on YouTube and Facebook Live for three Wednesday evenings to reset our hearts and reflect on the Advent of Christ. \nDecember 4\, 11\, and 18\n7:00-7:30 PM
URL:https://newhopemanoa.tv/event/advent-devotionals-2/
ATTACH;FMTTYPE=image/png:https://newhopemanoa.tv/wp-content/uploads/2024/11/Screenshot-2024-11-23-at-4.49.02 PM.png
END:VEVENT
BEGIN:VEVENT
DTSTART;TZID=UTC:20241204T190000
DTEND;TZID=UTC:20241204T193000
DTSTAMP:20260424T034248
CREATED:20241128T171257Z
LAST-MODIFIED:20241128T172023Z
UID:19995-1733338800-1733340600@newhopemanoa.tv
SUMMARY:Advent Devotionals
DESCRIPTION:Join Pastor Rod on YouTube and Facebook Live for three Wednesday evenings to reset our hearts and reflect on the Advent of Christ. \nDecember 4\, 11\, and 18\n7:00-7:30 PM
URL:https://newhopemanoa.tv/event/advent-devotionals/
ATTACH;FMTTYPE=image/png:https://newhopemanoa.tv/wp-content/uploads/2024/11/Screenshot-2024-11-23-at-4.49.02 PM.png
END:VEVENT
BEGIN:VEVENT
DTSTART;VALUE=DATE:20241116
DTEND;VALUE=DATE:20241130
DTSTAMP:20260424T034248
CREATED:20240819T174932Z
LAST-MODIFIED:20241128T174419Z
UID:18133-1731715200-1732924799@newhopemanoa.tv
SUMMARY:NHM Mission Team to Nepal
DESCRIPTION:Please keep the NHM Mission Team in prayer as they travel to Nepal from November 16 to 29.  For more information\, view this post.
URL:https://newhopemanoa.tv/event/nhm-mission-team-to-nepal/
ATTACH;FMTTYPE=image/png:https://newhopemanoa.tv/wp-content/uploads/2024/08/Screen-Shot-2024-08-14-at-8.41.02-PM.png
END:VEVENT
BEGIN:VEVENT
DTSTART;TZID=Pacific/Honolulu:20241109T100000
DTEND;TZID=Pacific/Honolulu:20241109T123000
DTSTAMP:20260424T034248
CREATED:20241026T125150Z
LAST-MODIFIED:20241026T130842Z
UID:19527-1731146400-1731155400@newhopemanoa.tv
SUMMARY:Women’s Brunch
DESCRIPTION:It’s brunch time! As the morning sun graces us\, so can your presence at the Women’s Brunch on November 9 at Pastor Rod and Beckie’s home in Kaimuki. Please bring a potluck dish to share. \nPlease RSVP with Tess at tess.tomita@gmail.com.
URL:https://newhopemanoa.tv/event/womens-brunch-2/
ATTACH;FMTTYPE=image/jpeg:https://newhopemanoa.tv/wp-content/uploads/2024/10/WomensBrunch.jpg
END:VEVENT
BEGIN:VEVENT
DTSTART;TZID=UTC:20241103T190000
DTEND;TZID=UTC:20241103T193000
DTSTAMP:20260424T034248
CREATED:20241016T211438Z
LAST-MODIFIED:20241016T211438Z
UID:19082-1730660400-1730662200@newhopemanoa.tv
SUMMARY:Prayer for Elections
DESCRIPTION:Election Day is on November 5.  Meet with us on Zoom from 7:00-7:30 PM on Sundays to pray for the elections\, our country\, and nations around the world. Contact Janice for more info. \n“… praying at all times in the Spirit\, with all prayer and supplication. To that end\, keep alert with all perseverance\, making supplication for all the saints …”\nEphesians 6:18
URL:https://newhopemanoa.tv/event/prayer-for-elections-5/
ATTACH;FMTTYPE=image/png:https://newhopemanoa.tv/wp-content/uploads/2024/10/Screenshot-2024-10-03-at-9.49.13 AM.png
END:VEVENT
BEGIN:VEVENT
DTSTART;VALUE=DATE:20241031
DTEND;VALUE=DATE:20241101
DTSTAMP:20260424T034248
CREATED:20241016T211221Z
LAST-MODIFIED:20241021T124935Z
UID:19080-1730332800-1730419199@newhopemanoa.tv
SUMMARY:SHAKAween!
DESCRIPTION:Join the Shimas at their home in Kaimuki for a fun family event!  Candy/financial donations are needed.  Please contact Pastor Rod for more info.
URL:https://newhopemanoa.tv/event/shakaween/
ATTACH;FMTTYPE=image/png:https://newhopemanoa.tv/wp-content/uploads/2024/10/Screenshot-2024-10-12-at-12.27.36 PM.png
END:VEVENT
BEGIN:VEVENT
DTSTART;TZID=UTC:20241030T190000
DTEND;TZID=UTC:20241030T200000
DTSTAMP:20260424T034248
CREATED:20241003T083058Z
LAST-MODIFIED:20241003T083131Z
UID:18793-1730314800-1730318400@newhopemanoa.tv
SUMMARY:Book Study: “A Church Called TOV"
DESCRIPTION:Join us on Zoom for a six-week book study on A Church Called TOV.  We will meet every Wednesday\, 7:00-8:00 PM starting September 25.  Please contact Pastor Rod to join the study or if you have any questions.
URL:https://newhopemanoa.tv/event/book-study-a-church-called-tov-6/
ATTACH;FMTTYPE=image/png:https://newhopemanoa.tv/wp-content/uploads/2024/09/Screenshot-2024-09-21-at-2.32.42 PM.png
END:VEVENT
BEGIN:VEVENT
DTSTART;TZID=Pacific/Honolulu:20241028T173000
DTEND;TZID=Pacific/Honolulu:20241028T190000
DTSTAMP:20260424T034248
CREATED:20241026T131032Z
LAST-MODIFIED:20241026T131243Z
UID:19540-1730136600-1730142000@newhopemanoa.tv
SUMMARY:New Hope Boxing Clinic
DESCRIPTION:All are welcome to the weekly New Hope Boxing Clinic on Mondays 5:30-7:30 PM at Magic Island Ala Moana. Contact Claudia for more information. \nIG: newhopeboxingclinic
URL:https://newhopemanoa.tv/event/new-hope-boxing-clinic-2/
ATTACH;FMTTYPE=image/png:https://newhopemanoa.tv/wp-content/uploads/2024/10/Screenshot-2024-10-11-at-11.54.30 PM-e1728727670305.png
END:VEVENT
BEGIN:VEVENT
DTSTART;TZID=Pacific/Honolulu:20241027T190000
DTEND;TZID=Pacific/Honolulu:20241027T193000
DTSTAMP:20260424T034248
CREATED:20241006T055647Z
LAST-MODIFIED:20241021T124610Z
UID:18895-1730055600-1730057400@newhopemanoa.tv
SUMMARY:Prayer for Elections
DESCRIPTION:Election Day is on November 5.  Meet with us on Zoom from 7:00-7:30 PM on Sundays to pray for the elections\, our country\, and nations around the world. Contact Janice for more info. \n“… praying at all times in the Spirit\, with all prayer and supplication. To that end\, keep alert with all perseverance\, making supplication for all the saints …”\nEphesians 6:18
URL:https://newhopemanoa.tv/event/prayer-for-elections-4/
ATTACH;FMTTYPE=image/png:https://newhopemanoa.tv/wp-content/uploads/2024/10/Screen-Shot-2024-10-05-at-9.47.06-AM.png
END:VEVENT
BEGIN:VEVENT
DTSTART;TZID=Pacific/Honolulu:20241025T190000
DTEND;TZID=Pacific/Honolulu:20241025T213000
DTSTAMP:20260424T034248
CREATED:20241003T081722Z
LAST-MODIFIED:20241021T124534Z
UID:18778-1729882800-1729891800@newhopemanoa.tv
SUMMARY:Healing Hearts
DESCRIPTION:“Years ago\, Beckie and I met and counseled with Pastor Rob Gross. We love his heart\, ministry\, church\, and invitation to Healing Hearts Ministry!” – Pastor Rod \n9 Sessions\nFridays\, 7:00-9:30 PM\nAugust 30 – October 25 \nView their website for more info and to register.
URL:https://newhopemanoa.tv/event/healing-hearts-2/
LOCATION:Mountain View Community Church\, 99-1324 Koaha Place\, Aiea\, HI\, 96701
ATTACH;FMTTYPE=image/png:https://newhopemanoa.tv/wp-content/uploads/2024/07/Screenshot-2024-07-06-at-7.20.47 PM.png
END:VEVENT
BEGIN:VEVENT
DTSTART;TZID=Pacific/Honolulu:20241023T190000
DTEND;TZID=Pacific/Honolulu:20241023T200000
DTSTAMP:20260424T034248
CREATED:20241003T083003Z
LAST-MODIFIED:20241021T124359Z
UID:18791-1729710000-1729713600@newhopemanoa.tv
SUMMARY:Book Study: “A Church Called TOV"
DESCRIPTION:Join us on Zoom for a six-week book study on A Church Called TOV.  We will meet every Wednesday\, 7:00-8:00 PM starting September 25.  Please contact Pastor Rod to join the study or if you have any questions.
URL:https://newhopemanoa.tv/event/book-study-a-church-called-tov-5/
ATTACH;FMTTYPE=image/png:https://newhopemanoa.tv/wp-content/uploads/2024/09/Screenshot-2024-09-21-at-2.32.42 PM.png
END:VEVENT
BEGIN:VEVENT
DTSTART;TZID=Pacific/Honolulu:20241020T190000
DTEND;TZID=Pacific/Honolulu:20241020T193000
DTSTAMP:20260424T034248
CREATED:20241006T055446Z
LAST-MODIFIED:20241021T124226Z
UID:18892-1729450800-1729452600@newhopemanoa.tv
SUMMARY:Prayer for Elections
DESCRIPTION:Election Day is on November 5.  Meet with us on Zoom from 7:00-7:30 PM on Sundays to pray for the elections\, our country\, and nations around the world. Contact Janice for more info. \n“… praying at all times in the Spirit\, with all prayer and supplication. To that end\, keep alert with all perseverance\, making supplication for all the saints …”\nEphesians 6:18
URL:https://newhopemanoa.tv/event/prayer-for-elections-3/
ATTACH;FMTTYPE=image/png:https://newhopemanoa.tv/wp-content/uploads/2024/10/Screen-Shot-2024-10-05-at-9.47.06-AM.png
END:VEVENT
BEGIN:VEVENT
DTSTART;TZID=UTC:20241020T090000
DTEND;TZID=UTC:20241020T113000
DTSTAMP:20260424T034248
CREATED:20240812T102903Z
LAST-MODIFIED:20241006T055935Z
UID:17790-1729414800-1729423800@newhopemanoa.tv
SUMMARY:Bake & Craft Sale
DESCRIPTION:Partner with NHM’s Nepal 2024 Mission team as they fundraise for their medical outreach to Nepal in November! The Bake & Craft (and Rummage) Sale will be on October 20\, before and after service in the Bakken breezeway. There are many ways to contribute: \n\nBring baked goods\, musubi\, and handmade crafts to sell\nBring gently-used garage sale items for the rummage sale\n\nOther ways you can support: \n\nPray for the mission team and people of Nepal\nBuy items from the sale\nGive monetary donations\nInvite others to come on October 20!\n\nPlease consider giving your time\, talent\, and treasure to help this fundraiser. \nContact Raquel for more info.
URL:https://newhopemanoa.tv/event/bake-craft-and-rummage-sale/
LOCATION:Mid-Pacific Institute Bakken Auditorium
ATTACH;FMTTYPE=image/png:https://newhopemanoa.tv/wp-content/uploads/2024/08/Screen-Shot-2024-08-14-at-8.40.55-PM.png
END:VEVENT
BEGIN:VEVENT
DTSTART;TZID=UTC:20241016T190000
DTEND;TZID=UTC:20241016T200000
DTSTAMP:20260424T034248
CREATED:20241003T082903Z
LAST-MODIFIED:20241003T083257Z
UID:18789-1729105200-1729108800@newhopemanoa.tv
SUMMARY:Book Study: “A Church Called TOV"
DESCRIPTION:Join us on Zoom for a six-week book study on A Church Called TOV.  We will meet every Wednesday\, 7:00-8:00 PM starting September 25.  Please contact Pastor Rod to join the study or if you have any questions.
URL:https://newhopemanoa.tv/event/book-study-a-church-called-tov-4/
ATTACH;FMTTYPE=image/png:https://newhopemanoa.tv/wp-content/uploads/2024/09/Screenshot-2024-09-21-at-2.32.42 PM.png
END:VEVENT
BEGIN:VEVENT
DTSTART;TZID=UTC:20241014T173000
DTEND;TZID=UTC:20241014T193000
DTSTAMP:20260424T034248
CREATED:20241012T200231Z
LAST-MODIFIED:20241012T201033Z
UID:19032-1728927000-1728934200@newhopemanoa.tv
SUMMARY:New Hope Boxing Clinic
DESCRIPTION:All are welcome to New Hope Boxing Clinic on Mondays 5:30-7:30 PM at Magic Island Ala Moana. Contact Claudia for more information. \nIG: newhopeboxingclinic
URL:https://newhopemanoa.tv/event/new-hope-boxing-clinic/
ATTACH;FMTTYPE=image/png:https://newhopemanoa.tv/wp-content/uploads/2024/10/Screenshot-2024-10-11-at-11.54.30 PM-e1728727670305.png
END:VEVENT
BEGIN:VEVENT
DTSTART;TZID=UTC:20241013T190000
DTEND;TZID=UTC:20241013T193000
DTSTAMP:20260424T034248
CREATED:20241006T055335Z
LAST-MODIFIED:20241006T055335Z
UID:18890-1728846000-1728847800@newhopemanoa.tv
SUMMARY:Prayer for Elections
DESCRIPTION:Election Day is on November 5.  Meet with us on Zoom from 7:00-7:30 PM on Sundays to pray for the elections\, our country\, and nations around the world. Contact Janice for more info. \n“… praying at all times in the Spirit\, with all prayer and supplication. To that end\, keep alert with all perseverance\, making supplication for all the saints …”\nEphesians 6:18
URL:https://newhopemanoa.tv/event/prayer-for-elections-2/
ATTACH;FMTTYPE=image/png:https://newhopemanoa.tv/wp-content/uploads/2024/10/Screen-Shot-2024-10-05-at-9.47.06-AM.png
END:VEVENT
END:VCALENDAR