BEGIN:VCALENDAR
VERSION:2.0
PRODID:-//New Hope Manoa - ECPv6.13.2.1//NONSGML v1.0//EN
CALSCALE:GREGORIAN
METHOD:PUBLISH
X-WR-CALNAME:New Hope Manoa
X-ORIGINAL-URL:https://newhopemanoa.tv
X-WR-CALDESC:Events for New Hope Manoa
REFRESH-INTERVAL;VALUE=DURATION:PT1H
X-Robots-Tag:noindex
X-PUBLISHED-TTL:PT1H
BEGIN:VTIMEZONE
TZID:Pacific/Honolulu
BEGIN:STANDARD
TZOFFSETFROM:-1000
TZOFFSETTO:-1000
TZNAME:HST
DTSTART:20250101T000000
END:STANDARD
END:VTIMEZONE
BEGIN:VEVENT
DTSTART;TZID=Pacific/Honolulu:20250830T173000
DTEND;TZID=Pacific/Honolulu:20250830T193000
DTSTAMP:20260424T051226
CREATED:20250823T235951Z
LAST-MODIFIED:20250824T181145Z
UID:24766-1756575000-1756582200@newhopemanoa.tv
SUMMARY:‘Ohana Hangout
DESCRIPTION:Join us for a time of food\, fellowship\, and fun with volleyball and pickleball! Contact with Malia at (808) 375-2064 if you have any questions.
URL:https://newhopemanoa.tv/event/ohana-hangout/
LOCATION:Wai’alae Iki Neighborhood Park
ATTACH;FMTTYPE=image/png:https://newhopemanoa.tv/wp-content/uploads/2025/08/Screenshot-2025-08-23-at-9.07.23-AM-1.png
END:VEVENT
BEGIN:VEVENT
DTSTART;TZID=Pacific/Honolulu:20250828T180000
DTEND;TZID=Pacific/Honolulu:20250828T200000
DTSTAMP:20260424T051226
CREATED:20250824T180458Z
LAST-MODIFIED:20250824T181041Z
UID:24791-1756404000-1756411200@newhopemanoa.tv
SUMMARY:Young Adults Dinner & Discussion
DESCRIPTION:Calling all young adults!  Join Malia for Dinner & Discussion! Meetings are 6:00-8:00 PM at the Shimabukuro hale on Thursdays\, August 28\, September 4 and 18. Contact Malia at (808) 375-2064.
URL:https://newhopemanoa.tv/event/young-adults-dinner-discussion/
LOCATION:Shimabukuro’s House
ATTACH;FMTTYPE=image/png:https://newhopemanoa.tv/wp-content/uploads/2025/08/Screenshot-2025-08-23-at-8.44.24-PM-1.png
END:VEVENT
BEGIN:VEVENT
DTSTART;TZID=Pacific/Honolulu:20250827T190000
DTEND;TZID=Pacific/Honolulu:20250827T203000
DTSTAMP:20260424T051226
CREATED:20250803T010021Z
LAST-MODIFIED:20250823T210955Z
UID:24273-1756321200-1756326600@newhopemanoa.tv
SUMMARY:Bible Revival Midweek Small Group
DESCRIPTION:Grow mānoa in our relationship with God through His Word. Join in the Bible Revival small group on Wednesdays starting August 27\, 7:00-8:30 PM\, at the Shimabukuro home. Please contact Pastor Rod for more info at rod@enewhope.org. \nNot able to make it in person? Please join us on Zoom: Bible Revival Zoom Link
URL:https://newhopemanoa.tv/event/bible-revival-midweek-small-group-3/
LOCATION:Shimabukuro’s House
ATTACH;FMTTYPE=image/png:https://newhopemanoa.tv/wp-content/uploads/2025/08/BibleRevival.png
END:VEVENT
BEGIN:VEVENT
DTSTART;TZID=Pacific/Honolulu:20250825T173000
DTEND;TZID=Pacific/Honolulu:20250825T193000
DTSTAMP:20260424T051226
CREATED:20250817T200413Z
LAST-MODIFIED:20250823T200119Z
UID:24638-1756143000-1756150200@newhopemanoa.tv
SUMMARY:New Hope Boxing Clinic
DESCRIPTION:All ages and levels are welcome to the New Hope Boxing Clinic! The clinics are held on Mondays (except holidays) 5:30-7:30 PM at Magic Island Ala Moana. Contact Claudia at newhopeboxingclinic2012@gmail.com for more information or view New Hope Boxing Clinic (@newhopeboxingclinic) on Instagram for updates.
URL:https://newhopemanoa.tv/event/new-hope-boxing-clinic-24/
ATTACH;FMTTYPE=image/jpeg:https://newhopemanoa.tv/wp-content/uploads/2025/01/NHM-Events.jpg
END:VEVENT
BEGIN:VEVENT
DTSTART;TZID=Pacific/Honolulu:20250816T090000
DTEND;TZID=Pacific/Honolulu:20250816T103000
DTSTAMP:20260424T051226
CREATED:20250707T015145Z
LAST-MODIFIED:20250719T191434Z
UID:23890-1755334800-1755340200@newhopemanoa.tv
SUMMARY:Women’s Bible Study
DESCRIPTION:Join Wendy and Raquel as they lead a Women’s Bible Study through the Book of Acts. Come for a time of worship\, prayer\, studying the Word of God\, and fellowship. Please contact Raquel (raquel@hawaii.rr.com) for more information. \nHappening once per month. Light refreshments will be served. \n“They were continually devoting themselves to the apostles’ teaching and to fellowship\, to the breaking of bread and to prayer.”\nActs 2:42 NASB
URL:https://newhopemanoa.tv/event/womens-bible-study-11/
LOCATION:Raquel’s House
ATTACH;FMTTYPE=image/png:https://newhopemanoa.tv/wp-content/uploads/2025/03/NHM-Events-5-2.png
END:VEVENT
BEGIN:VEVENT
DTSTART;TZID=Pacific/Honolulu:20250816T084500
DTEND;TZID=Pacific/Honolulu:20250816T130000
DTSTAMP:20260424T051226
CREATED:20250809T070440Z
LAST-MODIFIED:20250809T070721Z
UID:24482-1755333900-1755349200@newhopemanoa.tv
SUMMARY:Lo’i Kalo Community Outreach
DESCRIPTION:Come Help at a Loʻi Kalo (Taro Farm)! 🌱 \nJoin us for a day filled with fun and purpose! \n📅 Saturday\, August 16\n🕗 8:45 AM – 1:00 PM\n📍 ʻAiea near Sumida Farm\n🚗 Park at Pearlridge \n  \nWhat to Bring: \nClothes you don’t mind getting muddy\nA refillable water bottle 💧 \nRSVP by Monday\, August 11th\nTalk with Brennan or Shannon to sign up and get the release form.
URL:https://newhopemanoa.tv/event/loi-kalo-community-outreach/
LOCATION:Lo’i Kalo in ‘Aiea
ATTACH;FMTTYPE=image/jpeg:https://newhopemanoa.tv/wp-content/uploads/2025/08/Loi-Kalo-Community-Outreach-scaled.jpg
END:VEVENT
BEGIN:VEVENT
DTSTART;TZID=Pacific/Honolulu:20250815T113000
DTEND;TZID=Pacific/Honolulu:20250815T143000
DTSTAMP:20260424T051226
CREATED:20250721T221038Z
LAST-MODIFIED:20250721T221038Z
UID:24104-1755257400-1755268200@newhopemanoa.tv
SUMMARY:On A Mission: Pastor Wayne Documentary
DESCRIPTION:Come join us at the Neil Blaisdell Center Arena on August 15 as we celebrate all that God has done through Pastor Wayne as a dream releaser for the last 50 years. Gates open at 10:30 AM\, worship starts at 11:30 AM\, and movie documentary starts at 12:00 PM. Admission is free. Register for seating.
URL:https://newhopemanoa.tv/event/on-a-mission-pastor-wayne-documentary/
LOCATION:Neil Blaisdell Center Arena
ATTACH;FMTTYPE=image/png:https://newhopemanoa.tv/wp-content/uploads/2025/07/Screenshot-2025-07-19-at-3.40.50-PM.png
END:VEVENT
BEGIN:VEVENT
DTSTART;TZID=Pacific/Honolulu:20250811T173000
DTEND;TZID=Pacific/Honolulu:20250811T193000
DTSTAMP:20260424T051226
CREATED:20250809T072136Z
LAST-MODIFIED:20250809T072136Z
UID:24488-1754933400-1754940600@newhopemanoa.tv
SUMMARY:New Hope Boxing Clinic
DESCRIPTION:All ages and levels are welcome to New Hope Boxing Clinic on Mondays (except holidays) 5:30-7:30 PM at Magic Island Ala Moana. Contact Claudia for more information. View New Hope Boxing Clinic on Instagram for updates.
URL:https://newhopemanoa.tv/event/new-hope-boxing-clinic-23/
LOCATION:Magic Island Ala Moana
ATTACH;FMTTYPE=image/jpeg:https://newhopemanoa.tv/wp-content/uploads/2025/01/NHM-Events.jpg
END:VEVENT
BEGIN:VEVENT
DTSTART;TZID=Pacific/Honolulu:20250804T173000
DTEND;TZID=Pacific/Honolulu:20250804T193000
DTSTAMP:20260424T051226
CREATED:20250803T032433Z
LAST-MODIFIED:20250803T032433Z
UID:24293-1754328600-1754335800@newhopemanoa.tv
SUMMARY:New Hope Boxing Clinic
DESCRIPTION:The Summer Boxing Clinic is in full swing! Come and join in! All ages and levels are welcome! The clinics are held on Mondays (except holidays) 5:30-7:30 PM at Magic Island Ala Moana. Contact Claudia at newhopeboxingclinic2012@gmail.com for more information or view New Hope Boxing Clinic (@newhopeboxingclinic) on Instagram for updates.
URL:https://newhopemanoa.tv/event/new-hope-boxing-clinic-22/
LOCATION:Magic Island Ala Moana
ATTACH;FMTTYPE=image/jpeg:https://newhopemanoa.tv/wp-content/uploads/2025/01/NHM-Events.jpg
END:VEVENT
BEGIN:VEVENT
DTSTART;TZID=Pacific/Honolulu:20250728T173000
DTEND;TZID=Pacific/Honolulu:20250728T193000
DTSTAMP:20260424T051226
CREATED:20250719T191347Z
LAST-MODIFIED:20250719T191347Z
UID:24046-1753723800-1753731000@newhopemanoa.tv
SUMMARY:New Hope Boxing Clinic
DESCRIPTION:The Summer Boxing Clinic is in full swing! Come and join in! All ages and levels are welcome! The clinics are held on Mondays (except holidays) 5:30-7:30 PM at Magic Island Ala Moana. Contact Claudia at newhopeboxingclinic2012@gmail.com for more information or view New Hope Boxing Clinic (@newhopeboxingclinic) on Instagram for updates.
URL:https://newhopemanoa.tv/event/new-hope-boxing-clinic-21/
LOCATION:Magic Island Ala Moana
ATTACH;FMTTYPE=image/jpeg:https://newhopemanoa.tv/wp-content/uploads/2025/01/NHM-Events.jpg
END:VEVENT
BEGIN:VEVENT
DTSTART;TZID=Pacific/Honolulu:20250726T080000
DTEND;TZID=Pacific/Honolulu:20250726T093000
DTSTAMP:20260424T051226
CREATED:20250714T195338Z
LAST-MODIFIED:20250719T185707Z
UID:23994-1753516800-1753522200@newhopemanoa.tv
SUMMARY:Men's Discipleship Small Group
DESCRIPTION:Men\, we all need a community to grow closer to God! Join the men’s small group on Zoom. Please contact Pastor Mike (email: ononelson@aol.com) for the link. \n“… [F]or while bodily training is of some value\, godliness is of value in every way\, as it holds promise for the present life and also for the life to come.”\n1 Timothy 4:8 ESV
URL:https://newhopemanoa.tv/event/mens-discipleship-small-group-6/
LOCATION:Zoom
ATTACH;FMTTYPE=image/png:https://newhopemanoa.tv/wp-content/uploads/2025/02/NHM-Events-6-1.png
END:VEVENT
BEGIN:VEVENT
DTSTART;TZID=Pacific/Honolulu:20250721T173000
DTEND;TZID=Pacific/Honolulu:20250721T193000
DTSTAMP:20260424T051226
CREATED:20250712T014131Z
LAST-MODIFIED:20250712T023810Z
UID:23960-1753119000-1753126200@newhopemanoa.tv
SUMMARY:New Hope Boxing Clinic
DESCRIPTION:Come join the Summer Boxing Clinic! All ages and levels are welcome! The clinics are held on Mondays (except holidays) 5:30-7:30 PM at Magic Island Ala Moana. Contact Claudia at newhopeboxingclinic2012@gmail.com for more information or view New Hope Boxing Clinic (@newhopeboxingclinic) on Instagram for updates.
URL:https://newhopemanoa.tv/event/new-hope-boxing-clinic-20/
LOCATION:Magic Island Ala Moana
ATTACH;FMTTYPE=image/jpeg:https://newhopemanoa.tv/wp-content/uploads/2025/01/NHM-Events.jpg
END:VEVENT
BEGIN:VEVENT
DTSTART;TZID=Pacific/Honolulu:20250719T083000
DTEND;TZID=Pacific/Honolulu:20250719T100000
DTSTAMP:20260424T051226
CREATED:20250714T195227Z
LAST-MODIFIED:20250719T185617Z
UID:23990-1752913800-1752919200@newhopemanoa.tv
SUMMARY:Men's Discipleship Small Group
DESCRIPTION:Men\, we all need a community to grow closer to God! Join the men’s small group on Zoom. Please contact Pastor Mike (email: ononelson@aol.com) for the link. \n“… [F]or while bodily training is of some value\, godliness is of value in every way\, as it holds promise for the present life and also for the life to come.”\n1 Timothy 4:8 ESV
URL:https://newhopemanoa.tv/event/mens-discipleship-small-group-5/
LOCATION:Zoom
ATTACH;FMTTYPE=image/png:https://newhopemanoa.tv/wp-content/uploads/2025/02/NHM-Events-6-1.png
END:VEVENT
BEGIN:VEVENT
DTSTART;TZID=Pacific/Honolulu:20250713T093000
DTEND;TZID=Pacific/Honolulu:20250713T223000
DTSTAMP:20260424T051226
CREATED:20250712T012855Z
LAST-MODIFIED:20250712T012918Z
UID:23946-1752399000-1752445800@newhopemanoa.tv
SUMMARY:Worship and Prayer Service
DESCRIPTION:This Sunday\, July 13\, we will be having a Worship & Prayer Service with a couple of our leaders sharing an encouraging and equipping devotional! \nWe are believing for our God to favor our time with a strong presence of grace\, power\, love\, healing. HAVE YOUR WAY\, O GOD\, FOR YOUR GLORY AND KINGDOM!
URL:https://newhopemanoa.tv/event/worship-and-prayer-service/
LOCATION:Mid-Pacific Institute Bakken Auditorium
ATTACH;FMTTYPE=image/png:https://newhopemanoa.tv/wp-content/uploads/2025/07/NHM-Events.png
END:VEVENT
BEGIN:VEVENT
DTSTART;TZID=Pacific/Honolulu:20250710T190000
DTEND;TZID=Pacific/Honolulu:20250710T200000
DTSTAMP:20260424T051226
CREATED:20250707T020756Z
LAST-MODIFIED:20250707T020756Z
UID:23895-1752174000-1752177600@newhopemanoa.tv
SUMMARY:Prayer Time
DESCRIPTION:Prayer time with Pastor Rod on Zoom on Thursday\, July 10\, 7:00-8:00 PM.  Please email Pastor Rod (rod@enewhope.org) for the Zoom link.
URL:https://newhopemanoa.tv/event/prayer-time/
LOCATION:Zoom
ATTACH;FMTTYPE=image/png:https://newhopemanoa.tv/wp-content/uploads/2025/07/Prayer-Time.png
END:VEVENT
BEGIN:VEVENT
DTSTART;TZID=Pacific/Honolulu:20250707T173000
DTEND;TZID=Pacific/Honolulu:20250707T193000
DTSTAMP:20260424T051226
CREATED:20250704T175841Z
LAST-MODIFIED:20250707T020905Z
UID:23788-1751909400-1751916600@newhopemanoa.tv
SUMMARY:New Hope Boxing Clinic
DESCRIPTION:The Summer Boxing Clinic begins on July 7! All ages and levels are welcome! Clinics are held on Mondays (except holidays) 5:30-7:30 PM at Magic Island Ala Moana. Contact Claudia for more information. View New Hope Boxing Clinic (@newhopeboxingclinic) on Instagram for updates.
URL:https://newhopemanoa.tv/event/new-hope-boxing-clinic-19/
LOCATION:Magic Island Ala Moana
ATTACH;FMTTYPE=image/jpeg:https://newhopemanoa.tv/wp-content/uploads/2025/01/NHM-Events.jpg
END:VEVENT
BEGIN:VEVENT
DTSTART;TZID=Pacific/Honolulu:20250705T090000
DTEND;TZID=Pacific/Honolulu:20250705T103000
DTSTAMP:20260424T051226
CREATED:20250608T223835Z
LAST-MODIFIED:20250608T223835Z
UID:23589-1751706000-1751711400@newhopemanoa.tv
SUMMARY:Women’s Bible Study
DESCRIPTION:Join Wendy and Raquel as they lead a Women’s Bible Study through the Book of Acts. Come for a time of worship\, prayer\, studying the Word of God\, and fellowship. Please contact Raquel (raquel@hawaii.rr.com) for more information. \nHappening once per month. Light refreshments will be served. \n“They were continually devoting themselves to the apostles’ teaching and to fellowship\, to the breaking of bread and to prayer.”\nActs 2:42 NASB
URL:https://newhopemanoa.tv/event/womens-bible-study-10/
LOCATION:Raquel’s House
ATTACH;FMTTYPE=image/png:https://newhopemanoa.tv/wp-content/uploads/2025/03/NHM-Events-5-2.png
END:VEVENT
BEGIN:VEVENT
DTSTART;TZID=Pacific/Honolulu:20250630T173000
DTEND;TZID=Pacific/Honolulu:20250630T193000
DTSTAMP:20260424T051226
CREATED:20250629T230836Z
LAST-MODIFIED:20250629T230836Z
UID:23775-1751304600-1751311800@newhopemanoa.tv
SUMMARY:New Hope Boxing Clinic
DESCRIPTION:All ages and levels are welcome to New Hope Boxing Clinic on Mondays (except holidays) 5:30-7:30 PM at Magic Island Ala Moana. Contact Claudia for more information. View New Hope Boxing Clinic (@newhopeboxingclinic) on Instagram for updates.
URL:https://newhopemanoa.tv/event/new-hope-boxing-clinic-18/
LOCATION:Magic Island Ala Moana
ATTACH;FMTTYPE=image/jpeg:https://newhopemanoa.tv/wp-content/uploads/2025/01/NHM-Events.jpg
END:VEVENT
BEGIN:VEVENT
DTSTART;TZID=Pacific/Honolulu:20250628T083000
DTEND;TZID=Pacific/Honolulu:20250628T100000
DTSTAMP:20260424T051226
CREATED:20250616T184732Z
LAST-MODIFIED:20250616T184732Z
UID:23652-1751099400-1751104800@newhopemanoa.tv
SUMMARY:Men’s Discipleship Small Group
DESCRIPTION:Men\, we all need a community to grow closer to God! Join the next men’s small group on Zoom on Saturday\, June 28.  Please contact Pastor Mike (email: ononelson@aol.com) for the meeting link.
URL:https://newhopemanoa.tv/event/mens-discipleship-small-group-4/
LOCATION:Zoom
ATTACH;FMTTYPE=image/png:https://newhopemanoa.tv/wp-content/uploads/2025/02/NHM-Events-6-1.png
END:VEVENT
BEGIN:VEVENT
DTSTART;TZID=Pacific/Honolulu:20250623T173000
DTEND;TZID=Pacific/Honolulu:20250623T193000
DTSTAMP:20260424T051226
CREATED:20250620T214129Z
LAST-MODIFIED:20250620T214129Z
UID:23691-1750699800-1750707000@newhopemanoa.tv
SUMMARY:New Hope Boxing Clinic
DESCRIPTION:All ages and levels are welcome to New Hope Boxing Clinic on Mondays (except holidays) 5:30-7:30 PM at Magic Island Ala Moana. Contact Claudia for more information. View New Hope Boxing Clinic (@newhopeboxingclinic) on Instagram for updates.
URL:https://newhopemanoa.tv/event/new-hope-boxing-clinic-17/
LOCATION:Magic Island Ala Moana
ATTACH;FMTTYPE=image/jpeg:https://newhopemanoa.tv/wp-content/uploads/2025/01/NHM-Events.jpg
END:VEVENT
BEGIN:VEVENT
DTSTART;TZID=Pacific/Honolulu:20250616T173000
DTEND;TZID=Pacific/Honolulu:20250616T193000
DTSTAMP:20260424T051226
CREATED:20250615T064702Z
LAST-MODIFIED:20250615T064702Z
UID:23639-1750095000-1750102200@newhopemanoa.tv
SUMMARY:New Hope Boxing Clinic
DESCRIPTION:All ages and levels are welcome to New Hope Boxing Clinic on Mondays (except holidays) 5:30-7:30 PM at Magic Island Ala Moana. Contact Claudia for more information. View New Hope Boxing Clinic (@newhopeboxingclinic) on Instagram for updates.
URL:https://newhopemanoa.tv/event/new-hope-boxing-clinic-16/
LOCATION:Magic Island Ala Moana
ATTACH;FMTTYPE=image/jpeg:https://newhopemanoa.tv/wp-content/uploads/2025/01/NHM-Events.jpg
END:VEVENT
BEGIN:VEVENT
DTSTART;TZID=Pacific/Honolulu:20250609T173000
DTEND;TZID=Pacific/Honolulu:20250609T193000
DTSTAMP:20260424T051226
CREATED:20250606T194329Z
LAST-MODIFIED:20250606T194329Z
UID:23521-1749490200-1749497400@newhopemanoa.tv
SUMMARY:New Hope Boxing Clinic
DESCRIPTION:All ages and levels are welcome to New Hope Boxing Clinic on Mondays (except holidays) 5:30-7:30 PM at Magic Island Ala Moana. Contact Claudia for more information. View New Hope Boxing Clinic (@newhopeboxingclinic) on Instagram for updates.
URL:https://newhopemanoa.tv/event/new-hope-boxing-clinic-15/
LOCATION:Magic Island Ala Moana
ATTACH;FMTTYPE=image/jpeg:https://newhopemanoa.tv/wp-content/uploads/2025/01/NHM-Events.jpg
END:VEVENT
BEGIN:VEVENT
DTSTART;TZID=Pacific/Honolulu:20250607T090000
DTEND;TZID=Pacific/Honolulu:20250607T103000
DTSTAMP:20260424T051226
CREATED:20250510T003918Z
LAST-MODIFIED:20250510T003918Z
UID:23013-1749286800-1749292200@newhopemanoa.tv
SUMMARY:Women's Bible Study
DESCRIPTION:Join Wendy and Raquel as they lead a Women’s Bible Study through the Book of Acts. Come for a time of worship\, prayer\, studying the Word of God\, and fellowship. Please contact Raquel (raquel@hawaii.rr.com) for more information. \nHappening once per month. Light refreshments will be served. \n“They were continually devoting themselves to the apostles’ teaching and to fellowship\, to the breaking of bread and to prayer.”\nActs 2:42 NASB
URL:https://newhopemanoa.tv/event/womens-bible-study-9/
LOCATION:Raquel’s House
ATTACH;FMTTYPE=image/png:https://newhopemanoa.tv/wp-content/uploads/2025/03/NHM-Events-5-2.png
END:VEVENT
BEGIN:VEVENT
DTSTART;TZID=Pacific/Honolulu:20250602T173000
DTEND;TZID=Pacific/Honolulu:20250602T193000
DTSTAMP:20260424T051226
CREATED:20250525T045053Z
LAST-MODIFIED:20250525T045053Z
UID:23363-1748885400-1748892600@newhopemanoa.tv
SUMMARY:New Hope Boxing Clinic
DESCRIPTION:All ages and levels are welcome to New Hope Boxing Clinic on Mondays (except holidays) 5:30-7:30 PM at Magic Island Ala Moana. Contact Claudia for more information. View New Hope Boxing Clinic (@newhopeboxingclinic) on Instagram for updates.
URL:https://newhopemanoa.tv/event/new-hope-boxing-clinic-14/
LOCATION:Magic Island Ala Moana
ATTACH;FMTTYPE=image/jpeg:https://newhopemanoa.tv/wp-content/uploads/2025/01/NHM-Events.jpg
END:VEVENT
BEGIN:VEVENT
DTSTART;TZID=Pacific/Honolulu:20250531T083000
DTEND;TZID=Pacific/Honolulu:20250531T100000
DTSTAMP:20260424T051226
CREATED:20250510T004858Z
LAST-MODIFIED:20250510T005233Z
UID:23017-1748680200-1748685600@newhopemanoa.tv
SUMMARY:Men's Discipleship Group
DESCRIPTION:Men\, we all need a community to grow closer to God!  The men’s discipleship group meets on Zoom with Pastor Mike.  For the Zoom link and more information\, please email: ononelson@aol.com. \n“Be watchful\, stand firm in the faith\, act like men\, be strong.”\n1 Corinthians 16:13 ESV
URL:https://newhopemanoa.tv/event/mens-discipleship-group-2/
LOCATION:Zoom
ATTACH;FMTTYPE=image/png:https://newhopemanoa.tv/wp-content/uploads/2025/02/NHM-Events-6-1.png
END:VEVENT
BEGIN:VEVENT
DTSTART;TZID=Pacific/Honolulu:20250525T093000
DTEND;TZID=Pacific/Honolulu:20250525T103000
DTSTAMP:20260424T051226
CREATED:20250421T004440Z
LAST-MODIFIED:20250502T211233Z
UID:22613-1748165400-1748169000@newhopemanoa.tv
SUMMARY:Service Location Change
DESCRIPTION:Bakken Auditorium will be used by Mid-Pacific Institute on May 11 and 25\, but we can still come together! Church is not a building; it’s the assembly of the body of believers. Service will be held at Waioli Kitchen and Bakeshop. Several volunteers will also open their homes for people to gather and watch the livestream service together. \nMay 11th Locations:\nService: Waioli Kitchen and Bakeshop (Mānoa)\nLivestream Gathering: Al & Raquel’s home (Makiki) \nMay 25th Location:\nService: Waioli Kitchen and Bakeshop (Mānoa) \nWe are still looking for other HOST HOMES to gather a small group of people to watch the livestream together. Please contact Pastor Rod at rod@enewhope.org if you would like to be a host.
URL:https://newhopemanoa.tv/event/service-at-host-homes-2/
LOCATION:Waioli Kitchen and Bakeshop
ATTACH;FMTTYPE=image/png:https://newhopemanoa.tv/wp-content/uploads/2025/04/Screen-Shot-2025-04-25-at-12.46.07-PM.png
END:VEVENT
BEGIN:VEVENT
DTSTART;TZID=Pacific/Honolulu:20250524T083000
DTEND;TZID=Pacific/Honolulu:20250524T100000
DTSTAMP:20260424T051226
CREATED:20250510T004638Z
LAST-MODIFIED:20250510T005206Z
UID:23015-1748075400-1748080800@newhopemanoa.tv
SUMMARY:Men's Discipleship Group
DESCRIPTION:Men\, we all need a community to grow closer to God!  The men’s discipleship group meets on Zoom with Pastor Mike.  For the Zoom link and more information\, please email: ononelson@aol.com. \n“Be watchful\, stand firm in the faith\, act like men\, be strong.”\n1 Corinthians 16:13 ESV
URL:https://newhopemanoa.tv/event/mens-discipleship-group/
LOCATION:Zoom
ATTACH;FMTTYPE=image/png:https://newhopemanoa.tv/wp-content/uploads/2025/02/NHM-Events-6-1.png
END:VEVENT
BEGIN:VEVENT
DTSTART;TZID=Pacific/Honolulu:20250519T173000
DTEND;TZID=Pacific/Honolulu:20250519T193000
DTSTAMP:20260424T051226
CREATED:20250515T175848Z
LAST-MODIFIED:20250515T175848Z
UID:23141-1747675800-1747683000@newhopemanoa.tv
SUMMARY:New Hope Boxing Clinic
DESCRIPTION:All ages and levels are welcome to New Hope Boxing Clinic on Mondays (except holidays) 5:30-7:30 PM at Magic Island Ala Moana. Contact Claudia for more information. View New Hope Boxing Clinic on Instagram for updates.
URL:https://newhopemanoa.tv/event/new-hope-boxing-clinic-13/
LOCATION:Magic Island Ala Moana
ATTACH;FMTTYPE=image/jpeg:https://newhopemanoa.tv/wp-content/uploads/2025/01/NHM-Events.jpg
END:VEVENT
BEGIN:VEVENT
DTSTART;TZID=Pacific/Honolulu:20250516T183000
DTEND;TZID=Pacific/Honolulu:20250517T083000
DTSTAMP:20260424T051226
CREATED:20250502T210857Z
LAST-MODIFIED:20250502T212755Z
UID:22870-1747420200-1747470600@newhopemanoa.tv
SUMMARY:Women’s Conference: In Search of Eden
DESCRIPTION:Calling all women!  Join New Hope O’ahu for their second annual Women’s Conference on May 16 at 6:30 PM and May 17 at 8:30 AM. \nREGISTER HERE
URL:https://newhopemanoa.tv/event/womens-conference-in-search-of-eden/
LOCATION:New Hope O’ahu\, 290 Sand Island Access Road\, Honolulu\, HI
ATTACH;FMTTYPE=image/png:https://newhopemanoa.tv/wp-content/uploads/2025/05/Screenshot-2025-05-01-at-3.04.46 PM.png
END:VEVENT
BEGIN:VEVENT
DTSTART;TZID=Pacific/Honolulu:20250511T093000
DTEND;TZID=Pacific/Honolulu:20250511T103000
DTSTAMP:20260424T051226
CREATED:20250421T004342Z
LAST-MODIFIED:20250502T211315Z
UID:22611-1746955800-1746959400@newhopemanoa.tv
SUMMARY:Service Location Change
DESCRIPTION:Bakken Auditorium will be used by Mid-Pacific Institute on May 11 and 25\, but we can still come together! Church is not a building; it’s the assembly of the body of believers. Service will be held at Waioli Kitchen and Bakeshop. Several volunteers will also open their homes for people to gather and watch the livestream service together. \nMay 11th Locations:\nService: Waioli Kitchen and Bakeshop (Mānoa)\nLivestream Gathering: Al & Raquel’s home (Makiki) \nMay 25th Location:\nService: Waioli Kitchen and Bakeshop (Mānoa) \nWe are still looking for other HOST HOMES to gather a small group of people to watch the livestream together. Please contact Pastor Rod at rod@enewhope.org if you would like to be a host.
URL:https://newhopemanoa.tv/event/service-at-host-homes/
LOCATION:Various Locations
ATTACH;FMTTYPE=image/png:https://newhopemanoa.tv/wp-content/uploads/2025/04/Screen-Shot-2025-04-25-at-12.46.07-PM.png
END:VEVENT
END:VCALENDAR