BEGIN:VCALENDAR
VERSION:2.0
PRODID:-//New Hope Manoa - ECPv6.13.2.1//NONSGML v1.0//EN
CALSCALE:GREGORIAN
METHOD:PUBLISH
X-ORIGINAL-URL:https://newhopemanoa.tv
X-WR-CALDESC:Events for New Hope Manoa
REFRESH-INTERVAL;VALUE=DURATION:PT1H
X-Robots-Tag:noindex
X-PUBLISHED-TTL:PT1H
BEGIN:VTIMEZONE
TZID:Pacific/Honolulu
BEGIN:STANDARD
TZOFFSETFROM:-1000
TZOFFSETTO:-1000
TZNAME:HST
DTSTART:20250101T000000
END:STANDARD
END:VTIMEZONE
BEGIN:VEVENT
DTSTART;TZID=Pacific/Honolulu:20250505T173000
DTEND;TZID=Pacific/Honolulu:20250505T193000
DTSTAMP:20260423T213410
CREATED:20250425T225307Z
LAST-MODIFIED:20250425T225307Z
UID:22679-1746466200-1746473400@newhopemanoa.tv
SUMMARY:New Hope Boxing Clinic
DESCRIPTION:All are welcome to New Hope Boxing Clinic on Mondays 5:30-7:30 PM at Magic Island Ala Moana. See Claudia for more information.
URL:https://newhopemanoa.tv/event/new-hope-boxing-clinic-12/
LOCATION:Magic Island Ala Moana
ATTACH;FMTTYPE=image/jpeg:https://newhopemanoa.tv/wp-content/uploads/2025/01/NHM-Events.jpg
END:VEVENT
BEGIN:VEVENT
DTSTART;TZID=Pacific/Honolulu:20250510T090000
DTEND;TZID=Pacific/Honolulu:20250510T103000
DTSTAMP:20260423T213410
CREATED:20250316T001105Z
LAST-MODIFIED:20250504T032825Z
UID:21570-1746867600-1746873000@newhopemanoa.tv
SUMMARY:Women’s Bible Study
DESCRIPTION:Join Wendy and Raquel as they lead a Women’s Bible Study through the Book of Acts. Come for a time of worship\, prayer\, studying the Word of God\, and fellowship. Please contact Raquel (raquel@hawaii.rr.com) for more information. \nHappening once per month. Light refreshments will be served. \n“They were continually devoting themselves to the apostles’ teaching and to fellowship\, to the breaking of bread and to prayer.”\nActs 2:42 NASB
URL:https://newhopemanoa.tv/event/womens-bible-study-8/
LOCATION:Raquel’s House
ATTACH;FMTTYPE=image/png:https://newhopemanoa.tv/wp-content/uploads/2025/03/NHM-Events-5-2.png
END:VEVENT
BEGIN:VEVENT
DTSTART;TZID=Pacific/Honolulu:20250511T093000
DTEND;TZID=Pacific/Honolulu:20250511T103000
DTSTAMP:20260423T213410
CREATED:20250421T004342Z
LAST-MODIFIED:20250502T211315Z
UID:22611-1746955800-1746959400@newhopemanoa.tv
SUMMARY:Service Location Change
DESCRIPTION:Bakken Auditorium will be used by Mid-Pacific Institute on May 11 and 25\, but we can still come together! Church is not a building; it’s the assembly of the body of believers. Service will be held at Waioli Kitchen and Bakeshop. Several volunteers will also open their homes for people to gather and watch the livestream service together. \nMay 11th Locations:\nService: Waioli Kitchen and Bakeshop (Mānoa)\nLivestream Gathering: Al & Raquel’s home (Makiki) \nMay 25th Location:\nService: Waioli Kitchen and Bakeshop (Mānoa) \nWe are still looking for other HOST HOMES to gather a small group of people to watch the livestream together. Please contact Pastor Rod at rod@enewhope.org if you would like to be a host.
URL:https://newhopemanoa.tv/event/service-at-host-homes/
LOCATION:Various Locations
ATTACH;FMTTYPE=image/png:https://newhopemanoa.tv/wp-content/uploads/2025/04/Screen-Shot-2025-04-25-at-12.46.07-PM.png
END:VEVENT
BEGIN:VEVENT
DTSTART;TZID=Pacific/Honolulu:20250516T183000
DTEND;TZID=Pacific/Honolulu:20250517T083000
DTSTAMP:20260423T213410
CREATED:20250502T210857Z
LAST-MODIFIED:20250502T212755Z
UID:22870-1747420200-1747470600@newhopemanoa.tv
SUMMARY:Women’s Conference: In Search of Eden
DESCRIPTION:Calling all women!  Join New Hope O’ahu for their second annual Women’s Conference on May 16 at 6:30 PM and May 17 at 8:30 AM. \nREGISTER HERE
URL:https://newhopemanoa.tv/event/womens-conference-in-search-of-eden/
LOCATION:New Hope O’ahu\, 290 Sand Island Access Road\, Honolulu\, HI
ATTACH;FMTTYPE=image/png:https://newhopemanoa.tv/wp-content/uploads/2025/05/Screenshot-2025-05-01-at-3.04.46 PM.png
END:VEVENT
BEGIN:VEVENT
DTSTART;TZID=Pacific/Honolulu:20250519T173000
DTEND;TZID=Pacific/Honolulu:20250519T193000
DTSTAMP:20260423T213410
CREATED:20250515T175848Z
LAST-MODIFIED:20250515T175848Z
UID:23141-1747675800-1747683000@newhopemanoa.tv
SUMMARY:New Hope Boxing Clinic
DESCRIPTION:All ages and levels are welcome to New Hope Boxing Clinic on Mondays (except holidays) 5:30-7:30 PM at Magic Island Ala Moana. Contact Claudia for more information. View New Hope Boxing Clinic on Instagram for updates.
URL:https://newhopemanoa.tv/event/new-hope-boxing-clinic-13/
LOCATION:Magic Island Ala Moana
ATTACH;FMTTYPE=image/jpeg:https://newhopemanoa.tv/wp-content/uploads/2025/01/NHM-Events.jpg
END:VEVENT
BEGIN:VEVENT
DTSTART;TZID=Pacific/Honolulu:20250524T083000
DTEND;TZID=Pacific/Honolulu:20250524T100000
DTSTAMP:20260423T213410
CREATED:20250510T004638Z
LAST-MODIFIED:20250510T005206Z
UID:23015-1748075400-1748080800@newhopemanoa.tv
SUMMARY:Men's Discipleship Group
DESCRIPTION:Men\, we all need a community to grow closer to God!  The men’s discipleship group meets on Zoom with Pastor Mike.  For the Zoom link and more information\, please email: ononelson@aol.com. \n“Be watchful\, stand firm in the faith\, act like men\, be strong.”\n1 Corinthians 16:13 ESV
URL:https://newhopemanoa.tv/event/mens-discipleship-group/
LOCATION:Zoom
ATTACH;FMTTYPE=image/png:https://newhopemanoa.tv/wp-content/uploads/2025/02/NHM-Events-6-1.png
END:VEVENT
BEGIN:VEVENT
DTSTART;TZID=Pacific/Honolulu:20250525T093000
DTEND;TZID=Pacific/Honolulu:20250525T103000
DTSTAMP:20260423T213410
CREATED:20250421T004440Z
LAST-MODIFIED:20250502T211233Z
UID:22613-1748165400-1748169000@newhopemanoa.tv
SUMMARY:Service Location Change
DESCRIPTION:Bakken Auditorium will be used by Mid-Pacific Institute on May 11 and 25\, but we can still come together! Church is not a building; it’s the assembly of the body of believers. Service will be held at Waioli Kitchen and Bakeshop. Several volunteers will also open their homes for people to gather and watch the livestream service together. \nMay 11th Locations:\nService: Waioli Kitchen and Bakeshop (Mānoa)\nLivestream Gathering: Al & Raquel’s home (Makiki) \nMay 25th Location:\nService: Waioli Kitchen and Bakeshop (Mānoa) \nWe are still looking for other HOST HOMES to gather a small group of people to watch the livestream together. Please contact Pastor Rod at rod@enewhope.org if you would like to be a host.
URL:https://newhopemanoa.tv/event/service-at-host-homes-2/
LOCATION:Waioli Kitchen and Bakeshop
ATTACH;FMTTYPE=image/png:https://newhopemanoa.tv/wp-content/uploads/2025/04/Screen-Shot-2025-04-25-at-12.46.07-PM.png
END:VEVENT
BEGIN:VEVENT
DTSTART;TZID=Pacific/Honolulu:20250531T083000
DTEND;TZID=Pacific/Honolulu:20250531T100000
DTSTAMP:20260423T213410
CREATED:20250510T004858Z
LAST-MODIFIED:20250510T005233Z
UID:23017-1748680200-1748685600@newhopemanoa.tv
SUMMARY:Men's Discipleship Group
DESCRIPTION:Men\, we all need a community to grow closer to God!  The men’s discipleship group meets on Zoom with Pastor Mike.  For the Zoom link and more information\, please email: ononelson@aol.com. \n“Be watchful\, stand firm in the faith\, act like men\, be strong.”\n1 Corinthians 16:13 ESV
URL:https://newhopemanoa.tv/event/mens-discipleship-group-2/
LOCATION:Zoom
ATTACH;FMTTYPE=image/png:https://newhopemanoa.tv/wp-content/uploads/2025/02/NHM-Events-6-1.png
END:VEVENT
END:VCALENDAR