BEGIN:VCALENDAR
VERSION:2.0
PRODID:-//New Hope Manoa - ECPv6.13.2.1//NONSGML v1.0//EN
CALSCALE:GREGORIAN
METHOD:PUBLISH
X-WR-CALNAME:New Hope Manoa
X-ORIGINAL-URL:https://newhopemanoa.tv
X-WR-CALDESC:Events for New Hope Manoa
REFRESH-INTERVAL;VALUE=DURATION:PT1H
X-Robots-Tag:noindex
X-PUBLISHED-TTL:PT1H
BEGIN:VTIMEZONE
TZID:Pacific/Honolulu
BEGIN:STANDARD
TZOFFSETFROM:-1000
TZOFFSETTO:-1000
TZNAME:HST
DTSTART:20250101T000000
END:STANDARD
END:VTIMEZONE
BEGIN:VEVENT
DTSTART;TZID=Pacific/Honolulu:20251001T190000
DTEND;TZID=Pacific/Honolulu:20251001T203000
DTSTAMP:20260423T141905
CREATED:20250927T081839Z
LAST-MODIFIED:20250927T081921Z
UID:25278-1759345200-1759350600@newhopemanoa.tv
SUMMARY:Bible Revival Midweek Small Group
DESCRIPTION:We’ve added another Bible Revival small group on Wednesday\, October 1\, 7:00-8:30 PM\, at the Shimabukuro home. Grow mānoa in our relationship with God through His Word. Please contact Pastor Rod for more info at rod@enewhope.org. \nNot able to make it in person? Please join us on Zoom: Bible Revival Zoom Link
URL:https://newhopemanoa.tv/event/bible-revival-midweek-small-group-4/
LOCATION:Shimabukuro’s House
ATTACH;FMTTYPE=image/png:https://newhopemanoa.tv/wp-content/uploads/2025/08/BibleRevival.png
END:VEVENT
BEGIN:VEVENT
DTSTART;TZID=Pacific/Honolulu:20251011T090000
DTEND;TZID=Pacific/Honolulu:20251011T223000
DTSTAMP:20260423T141905
CREATED:20250712T021845Z
LAST-MODIFIED:20251010T190146Z
UID:23964-1760173200-1760221800@newhopemanoa.tv
SUMMARY:Women’s Bible Study
DESCRIPTION:Join Wendy and Raquel as they lead a Women’s Bible Study through the Book of Acts. Come for a time of worship\, prayer\, studying the Word of God\, and fellowship. Please contact Raquel (raquel@hawaii.rr.com) for more information. \nHappening once per month. Light refreshments will be served. \n“They were continually devoting themselves to the apostles’ teaching and to fellowship\, to the breaking of bread and to prayer.”\nActs 2:42 NASB
URL:https://newhopemanoa.tv/event/womens-bible-study-13/
LOCATION:Raquel’s House
ATTACH;FMTTYPE=image/png:https://newhopemanoa.tv/wp-content/uploads/2025/07/Women-Bible.png
END:VEVENT
BEGIN:VEVENT
DTSTART;TZID=Pacific/Honolulu:20251013T173000
DTEND;TZID=Pacific/Honolulu:20251013T173000
DTSTAMP:20260423T141905
CREATED:20251010T192925Z
LAST-MODIFIED:20251010T193042Z
UID:25433-1760376600-1760376600@newhopemanoa.tv
SUMMARY:New Hope Boxing Clinic
DESCRIPTION:Meet Coach Claudia at 5:30 PM at the end of Magic Island parking lot on Monday\, October 13.  Bring water and a towel.  Check their IG page for more info: @newhopeboxingclinic.
URL:https://newhopemanoa.tv/event/new-hope-boxing-clinic-28/
LOCATION:Magic Island Ala Moana
ATTACH;FMTTYPE=image/jpeg:https://newhopemanoa.tv/wp-content/uploads/2025/01/NHM-Events.jpg
END:VEVENT
BEGIN:VEVENT
DTSTART;TZID=Pacific/Honolulu:20251015T190000
DTEND;TZID=Pacific/Honolulu:20251015T200000
DTSTAMP:20260423T141905
CREATED:20251004T025804Z
LAST-MODIFIED:20251012T200712Z
UID:25359-1760554800-1760558400@newhopemanoa.tv
SUMMARY:Zoom Prayer Gathering
DESCRIPTION:Prayer Gathering on Zoom\nWednesday\, October 15\n7:00 PM \nEmail Pastor Rod (rod@enewhope.org) for the link. \n  \n“Rejoice always\, pray without ceasing\, give thanks in all circumstances; for this is the will of God in Christ Jesus for you.”\n1 Thessalonians 5:16-18
URL:https://newhopemanoa.tv/event/prayer-gathering-on-zoom/
LOCATION:Zoom
ATTACH;FMTTYPE=image/png:https://newhopemanoa.tv/wp-content/uploads/2025/10/Screenshot-2025-10-10-at-6.59.37-PM.png
END:VEVENT
BEGIN:VEVENT
DTSTART;TZID=Pacific/Honolulu:20251018T084500
DTEND;TZID=Pacific/Honolulu:20251018T130000
DTSTAMP:20260423T141905
CREATED:20250923T235630Z
LAST-MODIFIED:20251008T212236Z
UID:25211-1760777100-1760792400@newhopemanoa.tv
SUMMARY:Loʻi Kalo Community Outreach
DESCRIPTION:Hoʻōla Hou iā Kalauao\nCommunity Work Day at Kaʻōnohi \nJoin us for a day filled with fun and purpose!  Come help at a loʻi kalo (taro farm)! 🌱 All are welcome! \n📅 Saturday\, October 18\n🕗 8:45 AM – 1:00 PM\n📍 ʻAiea near Sumida Farm\n🚗 Park at Pearlridge \nWhat to Bring:\nClothes you don’t mind getting muddy\nA refillable water bottle 💧 \nView Hoʻōla Hou iā Kalauao website \nRSVP with Malia
URL:https://newhopemanoa.tv/event/loi-kalo-community-outreach-3/
LOCATION:Lo’i Kalo in ‘Aiea
ATTACH;FMTTYPE=image/png:https://newhopemanoa.tv/wp-content/uploads/2025/09/Screen-Shot-2025-09-05-at-10.45.37-PM-e1757148665882.png
END:VEVENT
BEGIN:VEVENT
DTSTART;TZID=Pacific/Honolulu:20251025T110000
DTEND;TZID=Pacific/Honolulu:20251025T130000
DTSTAMP:20260423T141905
CREATED:20250928T200621Z
LAST-MODIFIED:20251024T032628Z
UID:25292-1761390000-1761397200@newhopemanoa.tv
SUMMARY:Nā Kūpuna Luncheon
DESCRIPTION:Join Nā Kūpuna o Mānoa for a luncheon at Grill Bill’s home (near Kahala Mall) on Saturday\, October 25! Bentos will be provided. Pastor Kyle Lum will be the guest speaker. See the Welcome Table or email Pastor Rod at rod@enewhope.org for more info and to RSVP.
URL:https://newhopemanoa.tv/event/na-kupuna-luncheon/
LOCATION:Bill’s House
END:VEVENT
BEGIN:VEVENT
DTSTART;TZID=Pacific/Honolulu:20251031T170000
DTEND;TZID=Pacific/Honolulu:20251031T200000
DTSTAMP:20260423T141905
CREATED:20251010T185637Z
LAST-MODIFIED:20251027T070506Z
UID:25424-1761930000-1761940800@newhopemanoa.tv
SUMMARY:SHAKAween
DESCRIPTION:SHAKAween will be on Friday\, October 31\, at the Shimabukuro’s house.  Candy/financial donations needed.  Please contact Malia for more info. \n 
URL:https://newhopemanoa.tv/event/shakaween-2/
LOCATION:Shimabukuro’s House
END:VEVENT
END:VCALENDAR