BEGIN:VCALENDAR
VERSION:2.0
PRODID:-//New Hope Manoa - ECPv6.13.2.1//NONSGML v1.0//EN
CALSCALE:GREGORIAN
METHOD:PUBLISH
X-ORIGINAL-URL:https://newhopemanoa.tv
X-WR-CALDESC:Events for New Hope Manoa
REFRESH-INTERVAL;VALUE=DURATION:PT1H
X-Robots-Tag:noindex
X-PUBLISHED-TTL:PT1H
BEGIN:VTIMEZONE
TZID:Pacific/Honolulu
BEGIN:STANDARD
TZOFFSETFROM:-1000
TZOFFSETTO:-1000
TZNAME:HST
DTSTART:20260101T000000
END:STANDARD
END:VTIMEZONE
BEGIN:VEVENT
DTSTART;TZID=Pacific/Honolulu:20260204T180000
DTEND;TZID=Pacific/Honolulu:20260204T203000
DTSTAMP:20260423T083854
CREATED:20251227T231042Z
LAST-MODIFIED:20260105T045231Z
UID:27112-1770228000-1770237000@newhopemanoa.tv
SUMMARY:'Ohana Life Group
DESCRIPTION:Please join us at the Midweek ‘Ohana Life Group at the Shimabukuro home on February 4 at 6:00 PM. Potluck at 6:00 PM followed by Life Group 7:15-8:30 PM. Leaders\, volunteers\, and all ‘ohana are invited!  PLEASE RSVP with Pastor Rod: call or text (808) 216-5493.
URL:https://newhopemanoa.tv/event/ohana-life-group-4/
LOCATION:Shimabukuro’s House
END:VEVENT
BEGIN:VEVENT
DTSTART;TZID=Pacific/Honolulu:20260207T083000
DTEND;TZID=Pacific/Honolulu:20260207T103000
DTSTAMP:20260423T083854
CREATED:20260105T044917Z
LAST-MODIFIED:20260120T192230Z
UID:27292-1770453000-1770460200@newhopemanoa.tv
SUMMARY:New Hope Boxing Clinic
DESCRIPTION:Join the New Hope Boxing Clinic on Saturdays at 8:30 AM at Magic Island Beach Park. All levels welcome! \nPlease follow the New Hope Boxing Clinic Instagram page (@newhopeboxingclinic) for weather updates and more. Contact Claudia if you are able to attend. \n 
URL:https://newhopemanoa.tv/event/new-hope-boxing-clinic-30/
LOCATION:Magic Island Ala Moana
END:VEVENT
BEGIN:VEVENT
DTSTART;TZID=Pacific/Honolulu:20260221T090000
DTEND;TZID=Pacific/Honolulu:20260221T103000
DTSTAMP:20260423T083854
CREATED:20251227T220151Z
LAST-MODIFIED:20251227T220347Z
UID:27080-1771664400-1771669800@newhopemanoa.tv
SUMMARY:Women's Bible Study
DESCRIPTION:Join Wendy and Raquel as they lead us through the study\, “Ten Women of the Bible: One by One They Changed the World” by Max Lucado. If you are able\, please purchase the study guide before our gathering.  Come for a time of worship\, prayer\, studying the Word of God\, and fellowship. Please contact Raquel (raquel@hawaii.rr.com) for more information. \nHappening once per month. Light refreshments will be served. \n“They were continually devoting themselves to the apostles’ teaching and to fellowship\,\nto the breaking of bread and to prayer.”\nActs 2:42 NASB \n 
URL:https://newhopemanoa.tv/event/womens-bible-study-4/
LOCATION:Raquel’s House
END:VEVENT
BEGIN:VEVENT
DTSTART;TZID=Pacific/Honolulu:20260221T090000
DTEND;TZID=Pacific/Honolulu:20260221T130000
DTSTAMP:20260423T083854
CREATED:20251227T231842Z
LAST-MODIFIED:20251227T231854Z
UID:27126-1771664400-1771678800@newhopemanoa.tv
SUMMARY:Lo'i Kalo Community Outreach
DESCRIPTION:Hoʻōla Hou iā Kalauao \nJoin us for a day filled with fun and purpose!  Come help at a loʻi kalo (taro farm) on the third Saturday of every month!  All are welcome! \n Saturday\, February 21\n 9:00 AM – 1:00 PM\n ʻAiea near Sumida Farm \nWhat to Bring: \n\nClothing that is able to get dirty\nBoots or covered shoes recommended for those doing work outside of the loʻi. High zip up tabis\, high socks\, or barefoot + slippers for after for those going into the loʻi\nWater bottle\, snacks (We’ll have a water cooler.)\nHat\nSunblock (but don’t put on your legs)\nChange of clothes and towel if you want to change before leaving\nA dish or food item to share for lunch (If can can\, no can no worry.)\nMess kit (reusable plate/bowl/utensils for lunch)\n\nComplete Waiver Release Form (once per year) on their website Hoʻōla Hou iā Kalauao \nRSVP with Malia \n 
URL:https://newhopemanoa.tv/event/27126/
LOCATION:Lo’i Kalo in ‘Aiea
END:VEVENT
BEGIN:VEVENT
DTSTART;TZID=Pacific/Honolulu:20260228T180000
DTEND;TZID=Pacific/Honolulu:20260228T210000
DTSTAMP:20260423T083854
CREATED:20260205T005633Z
LAST-MODIFIED:20260223T070800Z
UID:27808-1772301600-1772312400@newhopemanoa.tv
SUMMARY:Y&YA Chinese New Year Celebration
DESCRIPTION:A time for youth and young adults to celebrate the Chinese New Year and fellowship with each other in community. Brennan will be making won ton and shrimp chips! It will be 6:00 PM at the Shimabukuro Hale on Saturday\, February 28th! RSVP with Malia (808) 375-2064.
URL:https://newhopemanoa.tv/event/y-ya-chinese-new-year-celebration/
LOCATION:Shimabukuro’s House
END:VEVENT
END:VCALENDAR