BEGIN:VCALENDAR
VERSION:2.0
PRODID:-//New Hope Manoa - ECPv6.13.2.1//NONSGML v1.0//EN
CALSCALE:GREGORIAN
METHOD:PUBLISH
X-ORIGINAL-URL:https://newhopemanoa.tv
X-WR-CALDESC:Events for New Hope Manoa
REFRESH-INTERVAL;VALUE=DURATION:PT1H
X-Robots-Tag:noindex
X-PUBLISHED-TTL:PT1H
BEGIN:VTIMEZONE
TZID:Pacific/Honolulu
BEGIN:STANDARD
TZOFFSETFROM:-1000
TZOFFSETTO:-1000
TZNAME:HST
DTSTART:20260101T000000
END:STANDARD
END:VTIMEZONE
BEGIN:VEVENT
DTSTART;TZID=Pacific/Honolulu:20260603T180000
DTEND;TZID=Pacific/Honolulu:20260603T203000
DTSTAMP:20260423T083854
CREATED:20251227T233538Z
LAST-MODIFIED:20260221T003547Z
UID:27140-1780509600-1780518600@newhopemanoa.tv
SUMMARY:'Ohana Life Group
DESCRIPTION:Please join us at the Midweek ‘Ohana Life Group at the Shimabukuro home on June 3 at 6:00 PM. Potluck at 6:00 PM followed by Life Group 7:15-8:30 PM. Leaders\, volunteers\, and all ‘ohana are invited! Please call or text Pastor Rod at (808) 216-5493 to RSVP.
URL:https://newhopemanoa.tv/event/ohana-life-group-7/
LOCATION:Shimabukuro’s House
END:VEVENT
BEGIN:VEVENT
DTSTART;TZID=Pacific/Honolulu:20260613T090000
DTEND;TZID=Pacific/Honolulu:20260613T103000
DTSTAMP:20260423T083854
CREATED:20251227T221448Z
LAST-MODIFIED:20251227T221644Z
UID:27095-1781341200-1781346600@newhopemanoa.tv
SUMMARY:Women's Bible Study
DESCRIPTION:Join Wendy and Raquel as they lead us through a new study\, “Ten Women of the Bible: One by One They Changed the World” by Max Lucado. If you are able\, please purchase the study guide before our gathering.  Come for a time of worship\, prayer\, studying the Word of God\, and fellowship. Please contact Raquel (raquel@hawaii.rr.com) for more information. \nHappening once per month. Light refreshments will be served. \n“They were continually devoting themselves to the apostles’ teaching and to fellowship\,\nto the breaking of bread and to prayer.”\nActs 2:42 NASB
URL:https://newhopemanoa.tv/event/womens-bible-study-17/
LOCATION:Raquel’s House
END:VEVENT
BEGIN:VEVENT
DTSTART;TZID=Pacific/Honolulu:20260620T090000
DTEND;TZID=Pacific/Honolulu:20260620T130000
DTSTAMP:20260423T083854
CREATED:20251227T233646Z
LAST-MODIFIED:20251227T233646Z
UID:27142-1781946000-1781960400@newhopemanoa.tv
SUMMARY:Lo'i Kalo Community Outreach
DESCRIPTION:Hoʻōla Hou iā Kalauao \nJoin us for a day filled with fun and purpose!  Come help at a loʻi kalo (taro farm) on the third Saturday of every month!  All are welcome! \n Saturday\, June 20\n 9:00 AM – 1:00 PM\n ʻAiea near Sumida Farm \nWhat to Bring: \n\nClothing that is able to get dirty\nBoots or covered shoes recommended for those doing work outside of the loʻi. High zip up tabis\, high socks\, or barefoot + slippers for after for those going into the loʻi\nWater bottle\, snacks (We’ll have a water cooler.)\nHat\nSunblock (but don’t put on your legs)\nChange of clothes and towel if you want to change before leaving\nA dish or food item to share for lunch (If can can\, no can no worry.)\nMess kit (reusable plate/bowl/utensils for lunch)\n\nComplete Waiver Release Form (once per year) on their website Hoʻōla Hou iā Kalauao \nRSVP with Malia \n 
URL:https://newhopemanoa.tv/event/loi-kalo-community-outreach-9/
LOCATION:Lo’i Kalo in ‘Aiea
END:VEVENT
END:VCALENDAR